{"text_format":"1","workbook":"xlsx","n_sheets":5,"sheets":["Meldeliste","Tln Übernahme","Team","KR Übernahme","Btr. Übernahme"],"not_rendered":{"charts":0,"images":1,"macros":1,"external_links":0,"defined_names":0,"comments":0,"pivot_tables":0},"unopened":[],"bounds":{"document_bytes":16777216,"sheet_cells":100000,"rows_first":2000,"rows_last":500,"rows_between":2000,"halvings":0,"cell_chars":16384,"cell_head_chars":4096},"cells_cut":0,"cells_raw":0,"read":"whole","date_system":"1900"}

{"sheet":"Meldeliste","index":0,"n_rows":73,"n_cols":46,"rows_kept":73,"cut":false,"hidden":false,"merged":[[27,4,27,9],[28,4,28,9],[5,4,5,11],[7,4,7,11],[9,4,9,11],[11,4,11,11],[13,4,13,11],[15,4,15,11],[36,6,36,7],[36,8,36,9],[17,4,17,11],[24,1,24,2],[25,1,25,2],[26,1,26,2],[27,1,27,2],[29,4,29,9],[30,4,30,9],[28,1,28,2],[29,1,29,2],[30,1,30,2],[24,4,24,9],[25,4,25,9],[26,4,26,9]]}
[null,null,null,null,null,"Application Form"]
[null,null,null,null,null,"4th African Taekwon-Do Cup (ITF)"]
[null,null,null,null,null,"Pretoria,South Africa"]
[null,"2015-04-11",null,null,null,"April 11th, 2015"]
[]
[null,null,null,"School/Club:"]
[]
[null,null,null,"Assocation:"]
[]
[null,null,null,"Responsible:"]
[]
[null,null,null,"Address:"]
[]
[null,null,null,"Zipcode and City:"]
[]
[null,null,null,"Phone:"]
[]
[null,null,null,"Email:"]
[]
[null,"The application form have to be send at least on April, 7th 2015 to: ",null,null,null,null,"p.weiler@itf-d.de"]
[null,"Applications arriving after April, 7th 2015 will not be accepted! ",null,null,null,null,null,null,null,null,null,null,null,null,null,null,"Auswahl:","keine Starterlaubnis",null,null,null,null,null,null,null,null,null,null,null,null,null,null,null,null,null,null,null,null,null,null,{"$f":"IF(O25=1,AO23,IF(O25=2,AO24,IF(O25=3,AO25,IF(O25=4,AO26,0))))","v":0},null,null,{"$f":"IF(O26=1,AR23,IF(O26=2,AR24,IF(O26=3,AR25,IF(O26=4,AR26,0))))","v":0},null,{"$f":"SUM(AT23:AT26)","v":{"$error":"#REF!"}}]
[null,"This means the participation at the 4th African Cup is not possible!",null,null,null,null,null,null,null,null,null,null,null,null,null,null,null,"Samstag",null,null,null,null,null,null,null,null,null,null,null,null,null,null,null,null,null,null,null,null,"Pre Arranged",null,null,"Team Kampf",null,null,"Team Tul"]
[null,null,null,null,null,null,null,null,null,null,null,null,null,null,null,null,null,"Sonntag",null,null,null,null,null,null,null,null,null,null,null,null,null,null,null,null,null,null,null,null,"1 Team",{"$f":"IF(COUNTIF(#REF!,1)=2,1,\"\")","v":{"$error":"#REF!"}},{"$f":"SUM(AN23)","v":{"$error":"#REF!"}},"1 Team",{"$f":"IF(OR(COUNTIF(#REF!,1)=3,COUNTIF(#REF!,1)=4,COUNTIF(#REF!,1)=5),1,\"\")","v":{"$error":"#REF!"}},{"$f":"SUM(AQ23)","v":{"$error":"#REF!"}},"1 Team",{"$f":"IF(OR(COUNTIF(#REF!,1)=3,COUNTIF(#REF!,1)=4,COUNTIF(#REF!,1)=5),1,\"\")","v":{"$error":"#REF!"}}]
[null,"Coaches:",null,null,"Referees:",null,null,null,null,null,null,null,null,null,null,null,null,null,null,null,null,null,null,null,null,null,null,null,null,null,null,null,null,null,null,null,"Startgebühr",null,"2 Teams",{"$f":"IF(COUNTIF(#REF!,2)=2,1,\"\")","v":{"$error":"#REF!"}},{"$f":"SUM(AN23:AN24)","v":{"$error":"#REF!"}},"2 Teams",{"$f":"IF(OR(COUNTIF(#REF!,2)=3,COUNTIF(#REF!,2)=4,COUNTIF(#REF!,2)=5),1,\"\")","v":{"$error":"#REF!"}},{"$f":"SUM(AQ23:AQ24)","v":{"$error":"#REF!"}},"2 Teams",{"$f":"IF(OR(COUNTIF(#REF!,2)=3,COUNTIF(#REF!,2)=4,COUNTIF(#REF!,2)=5),1,\"\")","v":{"$error":"#REF!"}}]
[null,"Surname, Forename",null,null,"Surname, Forename",null,null,null,null,null,"Licence","Degree",null,"Anzahl Teams Pre",0,null,"D",{"$f":"R22","v":"Samstag"},null,null,null,null,null,null,null,null,null,null,null,null,null,null,null,null,null,null,22,"D Einzel","3 Teams",{"$f":"IF(COUNTIF(#REF!,3)=2,1,\"\")","v":{"$error":"#REF!"}},{"$f":"SUM(AN23:AN25)","v":{"$error":"#REF!"}},"3 Teams",{"$f":"IF(OR(COUNTIF(#REF!,3)=3,COUNTIF(#REF!,3)=4,COUNTIF(#REF!,3)=5),1,\"\")","v":{"$error":"#REF!"}},{"$f":"SUM(AQ23:AQ25)","v":{"$error":"#REF!"}},"3 Teams",{"$f":"IF(OR(COUNTIF(#REF!,3)=3,COUNTIF(#REF!,3)=4,COUNTIF(#REF!,3)=5),1,\"\")","v":{"$error":"#REF!"}}]
[null,null,null,null,null,null,null,null,null,null,null,null,null,"Anzahl Teams Kampf",0,null,"C",{"$f":"R22","v":"Samstag"},null,null,null,null,null,null,null,null,null,null,null,null,null,null,null,null,null,null,22,"C, B, A oder S Einzel","4 Teams",{"$f":"IF(COUNTIF(#REF!,4)=2,1,\"\")","v":{"$error":"#REF!"}},{"$f":"SUM(AN23:AN26)","v":{"$error":"#REF!"}},"4 Teams",{"$f":"IF(OR(COUNTIF(#REF!,4)=3,COUNTIF(#REF!,4)=4,COUNTIF(#REF!,4)=5),1,\"\")","v":{"$error":"#REF!"}},{"$f":"SUM(AQ23:AQ26)","v":{"$error":"#REF!"}},"4 Teams",{"$f":"IF(OR(COUNTIF(#REF!,4)=3,COUNTIF(#REF!,4)=4,COUNTIF(#REF!,4)=5),1,\"\")","v":{"$error":"#REF!"}}]
[null,null,null,null,null,null,null,null,null,null,null,null,null,"Anzahl Teams Tul",2,null,"B",{"$f":"R22","v":"Samstag"},null,null,null,null,null,null,null,null,null,null,null,null,null,null,null,null,null,null,30,"Team"]
[null,null,null,null,null,null,null,null,null,null,null,null,null,null,null,null,"A",{"$f":"R22","v":"Samstag"},null,null,null,null,null,null,null,null,null,null,null,null,null,null,null,null,null,null,22,"Erster Start"]
[null,null,null,null,null,null,null,null,null,null,null,null,null,null,null,null,"S",{"$f":"R22","v":"Samstag"},null,null,null,null,null,null,null,null,null,null,null,null,null,null,null,null,null,null,5,"Jeder weitere Start"]
[]
[]
[]
[null,null,null,null,"Yes or No"]
[null,null,null,"Member of the I.T.F.","Yes"]
[null,null,{"$f":"40*COUNTA(C31:C34)","v":0}]
[null,"Competitor:",{"$f":"5*COUNTIF(AM38:AM73,1)","v":0},null,null,null,"             Gup fill in with -   e.g. -1 = 1st Gup    1 = 1st Dan"]
[null,"Surname","Forename","Date of birth    DD.MM.YYYY","Age","Sex       m / f","-1 = 1.Gup 1 = 1.Dan",null,"Sparring  weight category",null,"Pattern","Entry Fee",null,"Team",null,null,null,null,null,"Tul","Kraft",null,null,null,null,null,null,"Kampf",null,null,null,null,null,null,null,null,null,"other federation"]
[1,null,null,null,{"$f":"IF(D38=\"\",\"\",DATEDIF(D38,$B$4,\"y\"))","v":""},null,null,{"$f":"IF(AND(G38<0,G38>-9),\"Gup\",IF(AND(G38>0,G38<7),\"Dan\",\"\"))","v":""},null,{"$f":"IF(I38=\"\",\"\",IF(E38<12,\"--\",\"kg\"))","v":""},null,{"$f":"IF($E$34=\"Yes\",AK38,IF($E$34=\"No\",AL38,0))","v":0},null,{"$f":"IF($O$27>0,\"1\",\"\")","v":"1"},{"$f":"IF($O$27>1,\"2\",\"\")","v":"2"},{"$f":"IF($O$27>2,\"3\",\"\")","v":""},{"$f":"IF($O$27>3,\"4\",\"\")","v":""},null,{"$f":"IF(M38=\"\",\"\",IF(M38=R21,\"\",\"x\"))","v":""},{"$f":"IF(AND(B38<>\"\",C38<>\"\",D38<>\"\",F38<>\"\",G38<>\"\"),\"x\",\"\")","v":""},{"$f":"IF(AND(T38=\"x\",G38>0),T38,\"\")","v":""},{"$f":"IF(AND(B38<>\"\",C38<>\"\",D38<>\"\",F38<>\"\",G38<>\"\"),AB38,\"\")","v":""},{"$f":"IF(AND(B38<>\"\",C38<>\"\",D38<>\"\",F38<>\"\",G38<>\"\"),AC38,\"\")","v":""},{"$f":"IF(AND(B38<>\"\",C38<>\"\",D38<>\"\",F38<>\"\",G38<>\"\"),AD38,\"\")","v":""},{"$f":"IF(AND(B38<>\"\",C38<>\"\",D38<>\"\",F38<>\"\",G38<>\"\"),AE38,\"\")","v":""},{"$f":"IF(AND(B38<>\"\",C38<>\"\",D38<>\"\",F38<>\"\",G38<>\"\"),AF38,\"\")","v":""},{"$f":"IF(AND(B38<>\"\",C38<>\"\",D38<>\"\",F38<>\"\",G38<>\"\"),AG38,\"\")","v":""},{"$f":"IF(AND(E38>=12,E38<=14,F38=\"f\"),40,IF(AND(E38>=12,E38<=14,F38=\"m\"),45,IF(AND(E38>=15,E38<=17,F38=\"f\"),45,IF(AND(E38>=15,E38<=17,F38=\"m\"),50,IF(AND(E38>=18,F38=\"f\"),50,IF(AND(E38>=18,F38=\"m\"),57,\"\"))))))","v":""},{"$f":"IF(AND(E38>=12,E38<=14,F38=\"f\"),45,IF(AND(E38>=12,E38<=14,F38=\"m\"),51,IF(AND(E38>=15,E38<=17,F38=\"f\"),50,IF(AND(E38>=15,E38<=17,F38=\"m\"),56,IF(AND(E38>=18,F38=\"f\"),56,IF(AND(E38>=18,F38=\"m\"),63,\"\"))))))","v":""},{"$f":"IF(AND(E38>=12,E38<=14,F38=\"f\"),50,IF(AND(E38>=12,E38<=14,F38=\"m\"),57,IF(AND(E38>=15,E38<=17,F38=\"f\"),55,IF(AND(E38>=15,E38<=17,F38=\"m\"),62,IF(AND(E38>=18,F38=\"f\"),62,IF(AND(E38>=18,F38=\"m\"),70,\"\"))))))","v":""},{"$f":"IF(AND(E38>=12,E38<=14,F38=\"f\"),55,IF(AND(E38>=12,E38<=14,F38=\"m\"),63,IF(AND(E38>=15,E38<=17,F38=\"f\"),60,IF(AND(E38>=15,E38<=17,F38=\"m\"),68,IF(AND(E38>=18,F38=\"f\"),68,IF(AND(E38>=18,F38=\"m\"),78,\"\"))))))","v":""},{"$f":"IF(AND(E38>=12,E38<=14,F38=\"f\"),60,IF(AND(E38>=12,E38<=14,F38=\"m\"),70,IF(AND(E38>=15,E38<=17,F38=\"f\"),65,IF(AND(E38>=15,E38<=17,F38=\"m\"),75,IF(AND(E38>=18,F38=\"f\"),75,IF(AND(E38>=18,F38=\"m\"),85,\"\"))))))","v":""},{"$f":"IF(AND(E38>=12,E38<=14,F38=\"f\"),\"over 60\",IF(AND(E38>=12,E38<=14,F38=\"m\"),\"over 70\",IF(AND(E38>=15,E38<=17,F38=\"f\"),\"over 65\",IF(AND(E38>=15,E38<=17,F38=\"m\"),\"over 75\",IF(AND(E38>=18,F38=\"f\"),\"over 75\",IF(AND(E38>=18,F38=\"m\"),\"over 85\",\"\"))))))","v":""},{"$f":"IF(I38<>\"\",1,0)","v":0},{"$f":"IF(K38<>\"\",1,0)","v":0},{"$f":"SUM(AH38:AI38)","v":0},{"$f":"IF(AND(E38<=14,AJ38=1),5,IF(AND(E38<=14,AJ38=2),10,IF(AND(E38>=15,AJ38=1),10,IF(AND(E38>=15,AJ38=2),15,0))))","v":0},{"$f":"IF(AND(E38<=14,AJ38=1),10,IF(AND(E38<=14,AJ38=2),20,IF(AND(E38>=15,AJ38=1),20,IF(AND(E38>=15,AJ38=2),30,0))))","v":0},{"$f":"IF(L38:L72>=10,1,0)","v":0}]
[2,null,null,null,"",null,null,{"$f":"IF(AND(G39<0,G39>-9),\"Gup\",IF(AND(G39>0,G39<7),\"Dan\",\"\"))","v":""},null,{"$f":"IF(I39=\"\",\"\",IF(E39<12,\"--\",\"kg\"))","v":""},null,0,null,"1","2","","",null,"",{"$f":"IF(AND(B39<>\"\",C39<>\"\",D39<>\"\",F39<>\"\",G39<>\"\"),\"x\",\"\")","v":""},{"$f":"IF(AND(T39=\"x\",G39>0),T39,\"\")","v":""},{"$f":"IF(AND(B39<>\"\",C39<>\"\",D39<>\"\",F39<>\"\",G39<>\"\"),AB39,\"\")","v":""},{"$f":"IF(AND(B39<>\"\",C39<>\"\",D39<>\"\",F39<>\"\",G39<>\"\"),AC39,\"\")","v":""},{"$f":"IF(AND(B39<>\"\",C39<>\"\",D39<>\"\",F39<>\"\",G39<>\"\"),AD39,\"\")","v":""},{"$f":"IF(AND(B39<>\"\",C39<>\"\",D39<>\"\",F39<>\"\",G39<>\"\"),AE39,\"\")","v":""},{"$f":"IF(AND(B39<>\"\",C39<>\"\",D39<>\"\",F39<>\"\",G39<>\"\"),AF39,\"\")","v":""},{"$f":"IF(AND(B39<>\"\",C39<>\"\",D39<>\"\",F39<>\"\",G39<>\"\"),AG39,\"\")","v":""},{"$f":"IF(AND(E39>=12,E39<=14,F39=\"f\"),40,IF(AND(E39>=12,E39<=14,F39=\"m\"),45,IF(AND(E39>=15,E39<=17,F39=\"f\"),45,IF(AND(E39>=15,E39<=17,F39=\"m\"),50,IF(AND(E39>=18,F39=\"f\"),50,IF(AND(E39>=18,F39=\"m\"),57,\"\"))))))","v":""},{"$f":"IF(AND(E39>=12,E39<=14,F39=\"f\"),45,IF(AND(E39>=12,E39<=14,F39=\"m\"),51,IF(AND(E39>=15,E39<=17,F39=\"f\"),50,IF(AND(E39>=15,E39<=17,F39=\"m\"),56,IF(AND(E39>=18,F39=\"f\"),56,IF(AND(E39>=18,F39=\"m\"),63,\"\"))))))","v":""},{"$f":"IF(AND(E39>=12,E39<=14,F39=\"f\"),50,IF(AND(E39>=12,E39<=14,F39=\"m\"),57,IF(AND(E39>=15,E39<=17,F39=\"f\"),55,IF(AND(E39>=15,E39<=17,F39=\"m\"),62,IF(AND(E39>=18,F39=\"f\"),62,IF(AND(E39>=18,F39=\"m\"),70,\"\"))))))","v":""},{"$f":"IF(AND(E39>=12,E39<=14,F39=\"f\"),55,IF(AND(E39>=12,E39<=14,F39=\"m\"),63,IF(AND(E39>=15,E39<=17,F39=\"f\"),60,IF(AND(E39>=15,E39<=17,F39=\"m\"),68,IF(AND(E39>=18,F39=\"f\"),68,IF(AND(E39>=18,F39=\"m\"),78,\"\"))))))","v":""},{"$f":"IF(AND(E39>=12,E39<=14,F39=\"f\"),60,IF(AND(E39>=12,E39<=14,F39=\"m\"),70,IF(AND(E39>=15,E39<=17,F39=\"f\"),65,IF(AND(E39>=15,E39<=17,F39=\"m\"),75,IF(AND(E39>=18,F39=\"f\"),75,IF(AND(E39>=18,F39=\"m\"),85,\"\"))))))","v":""},{"$f":"IF(AND(E39>=12,E39<=14,F39=\"f\"),\"over 60\",IF(AND(E39>=12,E39<=14,F39=\"m\"),\"over 70\",IF(AND(E39>=15,E39<=17,F39=\"f\"),\"over 65\",IF(AND(E39>=15,E39<=17,F39=\"m\"),\"over 75\",IF(AND(E39>=18,F39=\"f\"),\"over 75\",IF(AND(E39>=18,F39=\"m\"),\"over 85\",\"\"))))))","v":""},{"$f":"IF(I39<>\"\",1,0)","v":0},{"$f":"IF(K39<>\"\",1,0)","v":0},{"$f":"SUM(AH39:AI39)","v":0},{"$f":"IF(AND(E39<=14,AJ39=1),5,IF(AND(E39<=14,AJ39=2),10,IF(AND(E39>=15,AJ39=1),10,IF(AND(E39>=15,AJ39=2),15,0))))","v":0},{"$f":"IF(AND(E39<=14,AJ39=1),10,IF(AND(E39<=14,AJ39=2),20,IF(AND(E39>=15,AJ39=1),20,IF(AND(E39>=15,AJ39=2),30,0))))","v":0},0]
[3,null,null,null,"",null,null,"",null,"",null,0,null,"1","2","","",null,"","","","","","","","","","","","","","","",0,0,0,0,0,0]
[4,null,null,null,"",null,null,"",null,"",null,0,null,"1","2","","",null,"","","","","","","","","","","","","","","",0,0,0,0,0,0]
[5,null,null,null,"",null,null,"",null,"",null,0,null,"1","2","","",null,"","","","","","","","","","","","","","","",0,0,0,0,0,0]
[6,null,null,null,"",null,null,"",null,"",null,0,null,"1","2","","",null,"","","","","","","","","","","","","","","",0,0,0,0,0,0]
[7,null,null,null,"",null,null,"",null,"",null,0,null,"1","2","","",null,"","","","","","","","","","","","","","","",0,0,0,0,0,0]
[8,null,null,null,"",null,null,"",null,"",null,0,null,"1","2","","",null,"","","","","","","","","","","","","","","",0,0,0,0,0,0]
[9,null,null,null,"",null,null,"",null,"",null,0,null,"1","2","","",null,"","","","","","","","","","","","","","","",0,0,0,0,0,0]
[10,null,null,null,"",null,null,"",null,"",null,0,null,"1","2","","",null,"","","","","","","","","","","","","","","",0,0,0,0,0,0]
[11,null,null,null,"",null,null,"",null,"",null,0,null,"1","2","","",null,"","","","","","","","","","","","","","","",0,0,0,0,0,0]
[12,null,null,null,"",null,null,"",null,"",null,0,null,"1","2","","",null,{"$f":"IF(M49=\"\",\"\",IF(M49=R37,\"\",\"x\"))","v":""},"","","","","","","","","","","","","","",0,0,0,0,0,0]
[13,null,null,null,"",null,null,"",null,"",null,0,null,"1","2","","",null,"","","","","","","","","","","","","","","",0,0,0,0,0,0]
[14,null,null,null,"",null,null,"",null,"",null,0,null,"1","2","","",null,"","","","","","","","","","","","","","","",0,0,0,0,0,0]
[15,null,null,null,"",null,null,"",null,"",null,0,null,"1","2","","",null,"","","","","","","","","","","","","","","",0,0,0,0,0,0]
[16,null,null,null,"",null,null,"",null,"",null,0,null,"1","2","","",null,"","","","","","","","","","","","","","","",0,0,0,0,0,0]
[17,null,null,null,"",null,null,"",null,"",null,0,null,"1","2","","",null,"","","","","","","","","","","","","","","",0,0,0,0,0,0]
[18,null,null,null,"",null,null,"",null,"",null,0,null,"1","2","","",null,"","","","","","","","","","","","","","","",0,0,0,0,0,0]
[19,null,null,null,"",null,null,"",null,"",null,0,null,"1","2","","",null,"","","","","","","","","","","","","","","",0,0,0,0,0,0]
[20,null,null,null,"",null,null,"",null,"",null,0,null,"1","2","","",null,"","","","","","","","","","","","","","","",0,0,0,0,0,0]
[21,null,null,null,"",null,null,"",null,"",null,0,null,"1","2","","",null,"","","","","","","","","","","","","","","",0,0,0,0,0,0]
[22,null,null,null,"",null,null,"",null,"",null,0,null,"1","2","","",null,"","","","","","","","","","","","","","","",0,0,0,0,0,0]
[23,null,null,null,"",null,null,"",null,"",null,0,null,"1","2","","",null,"","","","","","","","","","","","","","","",0,0,0,0,0,0]
[24,null,null,null,"",null,null,"",null,"",null,0,null,"1","2","","",null,"","","","","","","","","","","","","","","",0,0,0,0,0,0]
[25,null,null,null,"",null,null,"",null,"",null,0,null,"1","2","","",null,"","","","","","","","","","","","","","","",0,0,0,0,0,0]
[26,null,null,null,"",null,null,"",null,"",null,0,null,"1","2","","",null,"","","","","","","","","","","","","","","",0,0,0,0,0,0]
[27,null,null,null,"",null,null,"",null,"",null,0,null,"1","2","","",null,"","","","","","","","","","","","","","","",0,0,0,0,0,{"$f":"IF(L64:L97>=10,1,0)","v":0}]
[28,null,null,null,"",null,null,"",null,"",null,0,null,"1","2","","",null,"","","","","","","","","","","","","","","",0,0,0,0,0,{"$f":"IF(L65:L97>=10,1,0)","v":0}]
[29,null,null,null,"",null,null,"",null,"",null,0,null,"1","2","","",null,"","","","","","","","","","","","","","","",0,0,0,0,0,{"$f":"IF(L66:L97>=10,1,0)","v":0}]
[30,null,null,null,"",null,null,"",null,"",null,0,null,"1","2","","",null,"","","","","","","","","","","","","","","",0,0,0,0,0,{"$f":"IF(L67:L97>=10,1,0)","v":0}]
[31,null,null,null,"",null,null,"",null,"",null,0,null,"1","2","","",null,"","","","","","","","","","","","","","","",0,0,0,0,0,{"$f":"IF(L68:L97>=10,1,0)","v":0}]
[32,null,null,null,"",null,null,"",null,"",null,0,null,"1","2","","",null,"","","","","","","","","","","","","","","",0,0,0,0,0,{"$f":"IF(L69:L97>=10,1,0)","v":0}]
[33,null,null,null,"",null,null,"",null,"",null,0,null,"1","2","","",null,"","","","","","","","","","","","","","","",0,0,0,0,0,{"$f":"IF(L70:L97>=10,1,0)","v":0}]
[34,null,null,null,"",null,null,"",null,"",null,0,null,"1","2","","",null,"","","","","","","","","","","","","","","",0,0,0,0,0,{"$f":"IF(L71:L97>=10,1,0)","v":0}]
[35,null,null,null,"",null,null,"",null,"",null,0,null,"1","2","","",null,"","","","","","","","","","","","","","","",0,0,0,0,0,{"$f":"IF(L72:L97>=10,1,0)","v":0}]
[null,null,null,null,null,null,null,null,null,null,null,0,null,"1","2","","",null,{"$f":"IF(M73=\"\",\"\",IF(M73=R62,\"\",\"x\"))","v":""},"","","","","","","","","","","","","","",0,0,0,0,0,{"$f":"IF(L73:L97>=10,1,0)","v":0}]

{"sheet":"Tln Übernahme","index":1,"n_rows":36,"n_cols":16,"rows_kept":36,"cut":false,"hidden":false,"merged":[]}
["Familienname","Vorname","Schule/Verein","Geb. Datum","m / w","Grad.","SK","x","LK","x","Tul","Kraft","Spezial","Team","Teammit.","Land"]
[{"$f":"IF(Meldeliste!B38=\"\",\"\",Meldeliste!B38)","v":""},{"$f":"IF(Meldeliste!C38=\"\",\"\",Meldeliste!C38)","v":""},{"$f":"IF(Meldeliste!$E$6=\"\",\"\",Meldeliste!$E$6)","v":""},{"$f":"IF(Meldeliste!D38=\"\",\"\",Meldeliste!D38)","v":""},{"$f":"IF(Meldeliste!F38=\"\",\"\",Meldeliste!F38)","v":""},{"$f":"IF(Meldeliste!G38=\"\",\"\",Meldeliste!G38)","v":""},null,null,{"$f":"IF(Meldeliste!I38=\"\",\"\",IF(OR(Meldeliste!I38=\"over 60\",Meldeliste!I38=\"over 70\",Meldeliste!I38=\"over 65\",Meldeliste!I38=\"over 75\",Meldeliste!I38=\"over 85\"),200,Meldeliste!I38))","v":""},{"$f":"IF(I2=\"\",\"\",\"x\")","v":""},{"$f":"IF(Meldeliste!K38=\"\",\"\",Meldeliste!K38)","v":""},null,null,null,null,{"$f":"IF(Meldeliste!$E$8=\"\",\"\",Meldeliste!$E$8)","v":""}]
[{"$f":"IF(Meldeliste!B39=\"\",\"\",Meldeliste!B39)","v":""},{"$f":"IF(Meldeliste!C39=\"\",\"\",Meldeliste!C39)","v":""},{"$f":"IF(Meldeliste!$E$6=\"\",\"\",Meldeliste!$E$6)","v":""},{"$f":"IF(Meldeliste!D39=\"\",\"\",Meldeliste!D39)","v":""},{"$f":"IF(Meldeliste!F39=\"\",\"\",Meldeliste!F39)","v":""},{"$f":"IF(Meldeliste!G39=\"\",\"\",Meldeliste!G39)","v":""},null,null,{"$f":"IF(Meldeliste!I39=\"\",\"\",IF(OR(Meldeliste!I39=\"over 60\",Meldeliste!I39=\"over 70\",Meldeliste!I39=\"over 65\",Meldeliste!I39=\"over 75\",Meldeliste!I39=\"over 85\"),200,Meldeliste!I39))","v":""},{"$f":"IF(I3=\"\",\"\",\"x\")","v":""},{"$f":"IF(Meldeliste!K39=\"\",\"\",Meldeliste!K39)","v":""},null,null,null,null,{"$f":"IF(Meldeliste!$E$8=\"\",\"\",Meldeliste!$E$8)","v":""}]
[{"$f":"IF(Meldeliste!B40=\"\",\"\",Meldeliste!B40)","v":""},{"$f":"IF(Meldeliste!C40=\"\",\"\",Meldeliste!C40)","v":""},{"$f":"IF(Meldeliste!$E$6=\"\",\"\",Meldeliste!$E$6)","v":""},{"$f":"IF(Meldeliste!D40=\"\",\"\",Meldeliste!D40)","v":""},{"$f":"IF(Meldeliste!F40=\"\",\"\",Meldeliste!F40)","v":""},{"$f":"IF(Meldeliste!G40=\"\",\"\",Meldeliste!G40)","v":""},null,null,{"$f":"IF(Meldeliste!I40=\"\",\"\",IF(OR(Meldeliste!I40=\"over 60\",Meldeliste!I40=\"over 70\",Meldeliste!I40=\"over 65\",Meldeliste!I40=\"over 75\",Meldeliste!I40=\"over 85\"),200,Meldeliste!I40))","v":""},"",{"$f":"IF(Meldeliste!K40=\"\",\"\",Meldeliste!K40)","v":""},null,null,null,null,{"$f":"IF(Meldeliste!$E$8=\"\",\"\",Meldeliste!$E$8)","v":""}]
[{"$f":"IF(Meldeliste!B41=\"\",\"\",Meldeliste!B41)","v":""},{"$f":"IF(Meldeliste!C41=\"\",\"\",Meldeliste!C41)","v":""},{"$f":"IF(Meldeliste!$E$6=\"\",\"\",Meldeliste!$E$6)","v":""},{"$f":"IF(Meldeliste!D41=\"\",\"\",Meldeliste!D41)","v":""},{"$f":"IF(Meldeliste!F41=\"\",\"\",Meldeliste!F41)","v":""},{"$f":"IF(Meldeliste!G41=\"\",\"\",Meldeliste!G41)","v":""},null,null,{"$f":"IF(Meldeliste!I41=\"\",\"\",IF(OR(Meldeliste!I41=\"over 60\",Meldeliste!I41=\"over 70\",Meldeliste!I41=\"over 65\",Meldeliste!I41=\"over 75\",Meldeliste!I41=\"over 85\"),200,Meldeliste!I41))","v":""},"",{"$f":"IF(Meldeliste!K41=\"\",\"\",Meldeliste!K41)","v":""},null,null,null,null,{"$f":"IF(Meldeliste!$E$8=\"\",\"\",Meldeliste!$E$8)","v":""}]
[{"$f":"IF(Meldeliste!B42=\"\",\"\",Meldeliste!B42)","v":""},{"$f":"IF(Meldeliste!C42=\"\",\"\",Meldeliste!C42)","v":""},{"$f":"IF(Meldeliste!$E$6=\"\",\"\",Meldeliste!$E$6)","v":""},{"$f":"IF(Meldeliste!D42=\"\",\"\",Meldeliste!D42)","v":""},{"$f":"IF(Meldeliste!F42=\"\",\"\",Meldeliste!F42)","v":""},{"$f":"IF(Meldeliste!G42=\"\",\"\",Meldeliste!G42)","v":""},null,null,{"$f":"IF(Meldeliste!I42=\"\",\"\",IF(OR(Meldeliste!I42=\"over 60\",Meldeliste!I42=\"over 70\",Meldeliste!I42=\"over 65\",Meldeliste!I42=\"over 75\",Meldeliste!I42=\"over 85\"),200,Meldeliste!I42))","v":""},"",{"$f":"IF(Meldeliste!K42=\"\",\"\",Meldeliste!K42)","v":""},null,null,null,null,{"$f":"IF(Meldeliste!$E$8=\"\",\"\",Meldeliste!$E$8)","v":""}]
[{"$f":"IF(Meldeliste!B43=\"\",\"\",Meldeliste!B43)","v":""},{"$f":"IF(Meldeliste!C43=\"\",\"\",Meldeliste!C43)","v":""},{"$f":"IF(Meldeliste!$E$6=\"\",\"\",Meldeliste!$E$6)","v":""},{"$f":"IF(Meldeliste!D43=\"\",\"\",Meldeliste!D43)","v":""},{"$f":"IF(Meldeliste!F43=\"\",\"\",Meldeliste!F43)","v":""},{"$f":"IF(Meldeliste!G43=\"\",\"\",Meldeliste!G43)","v":""},null,null,{"$f":"IF(Meldeliste!I43=\"\",\"\",IF(OR(Meldeliste!I43=\"over 60\",Meldeliste!I43=\"over 70\",Meldeliste!I43=\"over 65\",Meldeliste!I43=\"over 75\",Meldeliste!I43=\"over 85\"),200,Meldeliste!I43))","v":""},"",{"$f":"IF(Meldeliste!K43=\"\",\"\",Meldeliste!K43)","v":""},null,null,null,null,{"$f":"IF(Meldeliste!$E$8=\"\",\"\",Meldeliste!$E$8)","v":""}]
[{"$f":"IF(Meldeliste!B44=\"\",\"\",Meldeliste!B44)","v":""},{"$f":"IF(Meldeliste!C44=\"\",\"\",Meldeliste!C44)","v":""},{"$f":"IF(Meldeliste!$E$6=\"\",\"\",Meldeliste!$E$6)","v":""},{"$f":"IF(Meldeliste!D44=\"\",\"\",Meldeliste!D44)","v":""},{"$f":"IF(Meldeliste!F44=\"\",\"\",Meldeliste!F44)","v":""},{"$f":"IF(Meldeliste!G44=\"\",\"\",Meldeliste!G44)","v":""},null,null,{"$f":"IF(Meldeliste!I44=\"\",\"\",IF(OR(Meldeliste!I44=\"over 60\",Meldeliste!I44=\"over 70\",Meldeliste!I44=\"over 65\",Meldeliste!I44=\"over 75\",Meldeliste!I44=\"over 85\"),200,Meldeliste!I44))","v":""},"",{"$f":"IF(Meldeliste!K44=\"\",\"\",Meldeliste!K44)","v":""},null,null,null,null,{"$f":"IF(Meldeliste!$E$8=\"\",\"\",Meldeliste!$E$8)","v":""}]
[{"$f":"IF(Meldeliste!B45=\"\",\"\",Meldeliste!B45)","v":""},{"$f":"IF(Meldeliste!C45=\"\",\"\",Meldeliste!C45)","v":""},{"$f":"IF(Meldeliste!$E$6=\"\",\"\",Meldeliste!$E$6)","v":""},{"$f":"IF(Meldeliste!D45=\"\",\"\",Meldeliste!D45)","v":""},{"$f":"IF(Meldeliste!F45=\"\",\"\",Meldeliste!F45)","v":""},{"$f":"IF(Meldeliste!G45=\"\",\"\",Meldeliste!G45)","v":""},null,null,{"$f":"IF(Meldeliste!I45=\"\",\"\",IF(OR(Meldeliste!I45=\"over 60\",Meldeliste!I45=\"over 70\",Meldeliste!I45=\"over 65\",Meldeliste!I45=\"over 75\",Meldeliste!I45=\"over 85\"),200,Meldeliste!I45))","v":""},"",{"$f":"IF(Meldeliste!K45=\"\",\"\",Meldeliste!K45)","v":""},null,null,null,null,{"$f":"IF(Meldeliste!$E$8=\"\",\"\",Meldeliste!$E$8)","v":""}]
[{"$f":"IF(Meldeliste!B46=\"\",\"\",Meldeliste!B46)","v":""},{"$f":"IF(Meldeliste!C46=\"\",\"\",Meldeliste!C46)","v":""},{"$f":"IF(Meldeliste!$E$6=\"\",\"\",Meldeliste!$E$6)","v":""},{"$f":"IF(Meldeliste!D46=\"\",\"\",Meldeliste!D46)","v":""},{"$f":"IF(Meldeliste!F46=\"\",\"\",Meldeliste!F46)","v":""},{"$f":"IF(Meldeliste!G46=\"\",\"\",Meldeliste!G46)","v":""},null,null,{"$f":"IF(Meldeliste!I46=\"\",\"\",IF(OR(Meldeliste!I46=\"over 60\",Meldeliste!I46=\"over 70\",Meldeliste!I46=\"over 65\",Meldeliste!I46=\"over 75\",Meldeliste!I46=\"over 85\"),200,Meldeliste!I46))","v":""},"",{"$f":"IF(Meldeliste!K46=\"\",\"\",Meldeliste!K46)","v":""},null,null,null,null,{"$f":"IF(Meldeliste!$E$8=\"\",\"\",Meldeliste!$E$8)","v":""}]
[{"$f":"IF(Meldeliste!B47=\"\",\"\",Meldeliste!B47)","v":""},{"$f":"IF(Meldeliste!C47=\"\",\"\",Meldeliste!C47)","v":""},{"$f":"IF(Meldeliste!$E$6=\"\",\"\",Meldeliste!$E$6)","v":""},{"$f":"IF(Meldeliste!D47=\"\",\"\",Meldeliste!D47)","v":""},{"$f":"IF(Meldeliste!F47=\"\",\"\",Meldeliste!F47)","v":""},{"$f":"IF(Meldeliste!G47=\"\",\"\",Meldeliste!G47)","v":""},null,null,{"$f":"IF(Meldeliste!I47=\"\",\"\",IF(OR(Meldeliste!I47=\"over 60\",Meldeliste!I47=\"over 70\",Meldeliste!I47=\"over 65\",Meldeliste!I47=\"over 75\",Meldeliste!I47=\"over 85\"),200,Meldeliste!I47))","v":""},"",{"$f":"IF(Meldeliste!K47=\"\",\"\",Meldeliste!K47)","v":""},null,null,null,null,{"$f":"IF(Meldeliste!$E$8=\"\",\"\",Meldeliste!$E$8)","v":""}]
[{"$f":"IF(Meldeliste!B48=\"\",\"\",Meldeliste!B48)","v":""},{"$f":"IF(Meldeliste!C48=\"\",\"\",Meldeliste!C48)","v":""},{"$f":"IF(Meldeliste!$E$6=\"\",\"\",Meldeliste!$E$6)","v":""},{"$f":"IF(Meldeliste!D48=\"\",\"\",Meldeliste!D48)","v":""},{"$f":"IF(Meldeliste!F48=\"\",\"\",Meldeliste!F48)","v":""},{"$f":"IF(Meldeliste!G48=\"\",\"\",Meldeliste!G48)","v":""},null,null,{"$f":"IF(Meldeliste!I48=\"\",\"\",IF(OR(Meldeliste!I48=\"over 60\",Meldeliste!I48=\"over 70\",Meldeliste!I48=\"over 65\",Meldeliste!I48=\"over 75\",Meldeliste!I48=\"over 85\"),200,Meldeliste!I48))","v":""},"",{"$f":"IF(Meldeliste!K48=\"\",\"\",Meldeliste!K48)","v":""},null,null,null,null,{"$f":"IF(Meldeliste!$E$8=\"\",\"\",Meldeliste!$E$8)","v":""}]
[{"$f":"IF(Meldeliste!B49=\"\",\"\",Meldeliste!B49)","v":""},{"$f":"IF(Meldeliste!C49=\"\",\"\",Meldeliste!C49)","v":""},{"$f":"IF(Meldeliste!$E$6=\"\",\"\",Meldeliste!$E$6)","v":""},{"$f":"IF(Meldeliste!D49=\"\",\"\",Meldeliste!D49)","v":""},{"$f":"IF(Meldeliste!F49=\"\",\"\",Meldeliste!F49)","v":""},{"$f":"IF(Meldeliste!G49=\"\",\"\",Meldeliste!G49)","v":""},null,null,{"$f":"IF(Meldeliste!I49=\"\",\"\",IF(OR(Meldeliste!I49=\"over 60\",Meldeliste!I49=\"over 70\",Meldeliste!I49=\"over 65\",Meldeliste!I49=\"over 75\",Meldeliste!I49=\"over 85\"),200,Meldeliste!I49))","v":""},"",{"$f":"IF(Meldeliste!K49=\"\",\"\",Meldeliste!K49)","v":""},null,null,null,null,{"$f":"IF(Meldeliste!$E$8=\"\",\"\",Meldeliste!$E$8)","v":""}]
[{"$f":"IF(Meldeliste!B50=\"\",\"\",Meldeliste!B50)","v":""},{"$f":"IF(Meldeliste!C50=\"\",\"\",Meldeliste!C50)","v":""},{"$f":"IF(Meldeliste!$E$6=\"\",\"\",Meldeliste!$E$6)","v":""},{"$f":"IF(Meldeliste!D50=\"\",\"\",Meldeliste!D50)","v":""},{"$f":"IF(Meldeliste!F50=\"\",\"\",Meldeliste!F50)","v":""},{"$f":"IF(Meldeliste!G50=\"\",\"\",Meldeliste!G50)","v":""},null,null,{"$f":"IF(Meldeliste!I50=\"\",\"\",IF(OR(Meldeliste!I50=\"over 60\",Meldeliste!I50=\"over 70\",Meldeliste!I50=\"over 65\",Meldeliste!I50=\"over 75\",Meldeliste!I50=\"over 85\"),200,Meldeliste!I50))","v":""},"",{"$f":"IF(Meldeliste!K50=\"\",\"\",Meldeliste!K50)","v":""},null,null,null,null,{"$f":"IF(Meldeliste!$E$8=\"\",\"\",Meldeliste!$E$8)","v":""}]
[{"$f":"IF(Meldeliste!B51=\"\",\"\",Meldeliste!B51)","v":""},{"$f":"IF(Meldeliste!C51=\"\",\"\",Meldeliste!C51)","v":""},{"$f":"IF(Meldeliste!$E$6=\"\",\"\",Meldeliste!$E$6)","v":""},{"$f":"IF(Meldeliste!D51=\"\",\"\",Meldeliste!D51)","v":""},{"$f":"IF(Meldeliste!F51=\"\",\"\",Meldeliste!F51)","v":""},{"$f":"IF(Meldeliste!G51=\"\",\"\",Meldeliste!G51)","v":""},null,null,{"$f":"IF(Meldeliste!I51=\"\",\"\",IF(OR(Meldeliste!I51=\"over 60\",Meldeliste!I51=\"over 70\",Meldeliste!I51=\"over 65\",Meldeliste!I51=\"over 75\",Meldeliste!I51=\"over 85\"),200,Meldeliste!I51))","v":""},"",{"$f":"IF(Meldeliste!K51=\"\",\"\",Meldeliste!K51)","v":""},null,null,null,null,{"$f":"IF(Meldeliste!$E$8=\"\",\"\",Meldeliste!$E$8)","v":""}]
[{"$f":"IF(Meldeliste!B52=\"\",\"\",Meldeliste!B52)","v":""},{"$f":"IF(Meldeliste!C52=\"\",\"\",Meldeliste!C52)","v":""},{"$f":"IF(Meldeliste!$E$6=\"\",\"\",Meldeliste!$E$6)","v":""},{"$f":"IF(Meldeliste!D52=\"\",\"\",Meldeliste!D52)","v":""},{"$f":"IF(Meldeliste!F52=\"\",\"\",Meldeliste!F52)","v":""},{"$f":"IF(Meldeliste!G52=\"\",\"\",Meldeliste!G52)","v":""},null,null,{"$f":"IF(Meldeliste!I52=\"\",\"\",IF(OR(Meldeliste!I52=\"over 60\",Meldeliste!I52=\"over 70\",Meldeliste!I52=\"over 65\",Meldeliste!I52=\"over 75\",Meldeliste!I52=\"over 85\"),200,Meldeliste!I52))","v":""},"",{"$f":"IF(Meldeliste!K52=\"\",\"\",Meldeliste!K52)","v":""},null,null,null,null,{"$f":"IF(Meldeliste!$E$8=\"\",\"\",Meldeliste!$E$8)","v":""}]
[{"$f":"IF(Meldeliste!B53=\"\",\"\",Meldeliste!B53)","v":""},{"$f":"IF(Meldeliste!C53=\"\",\"\",Meldeliste!C53)","v":""},{"$f":"IF(Meldeliste!$E$6=\"\",\"\",Meldeliste!$E$6)","v":""},{"$f":"IF(Meldeliste!D53=\"\",\"\",Meldeliste!D53)","v":""},{"$f":"IF(Meldeliste!F53=\"\",\"\",Meldeliste!F53)","v":""},{"$f":"IF(Meldeliste!G53=\"\",\"\",Meldeliste!G53)","v":""},null,null,{"$f":"IF(Meldeliste!I53=\"\",\"\",IF(OR(Meldeliste!I53=\"over 60\",Meldeliste!I53=\"over 70\",Meldeliste!I53=\"over 65\",Meldeliste!I53=\"over 75\",Meldeliste!I53=\"over 85\"),200,Meldeliste!I53))","v":""},"",{"$f":"IF(Meldeliste!K53=\"\",\"\",Meldeliste!K53)","v":""},null,null,null,null,{"$f":"IF(Meldeliste!$E$8=\"\",\"\",Meldeliste!$E$8)","v":""}]
[{"$f":"IF(Meldeliste!B54=\"\",\"\",Meldeliste!B54)","v":""},{"$f":"IF(Meldeliste!C54=\"\",\"\",Meldeliste!C54)","v":""},{"$f":"IF(Meldeliste!$E$6=\"\",\"\",Meldeliste!$E$6)","v":""},{"$f":"IF(Meldeliste!D54=\"\",\"\",Meldeliste!D54)","v":""},{"$f":"IF(Meldeliste!F54=\"\",\"\",Meldeliste!F54)","v":""},{"$f":"IF(Meldeliste!G54=\"\",\"\",Meldeliste!G54)","v":""},null,null,{"$f":"IF(Meldeliste!I54=\"\",\"\",IF(OR(Meldeliste!I54=\"over 60\",Meldeliste!I54=\"over 70\",Meldeliste!I54=\"over 65\",Meldeliste!I54=\"over 75\",Meldeliste!I54=\"over 85\"),200,Meldeliste!I54))","v":""},"",{"$f":"IF(Meldeliste!K54=\"\",\"\",Meldeliste!K54)","v":""},null,null,null,null,{"$f":"IF(Meldeliste!$E$8=\"\",\"\",Meldeliste!$E$8)","v":""}]
[{"$f":"IF(Meldeliste!B55=\"\",\"\",Meldeliste!B55)","v":""},{"$f":"IF(Meldeliste!C55=\"\",\"\",Meldeliste!C55)","v":""},{"$f":"IF(Meldeliste!$E$6=\"\",\"\",Meldeliste!$E$6)","v":""},{"$f":"IF(Meldeliste!D55=\"\",\"\",Meldeliste!D55)","v":""},{"$f":"IF(Meldeliste!F55=\"\",\"\",Meldeliste!F55)","v":""},{"$f":"IF(Meldeliste!G55=\"\",\"\",Meldeliste!G55)","v":""},null,null,{"$f":"IF(Meldeliste!I55=\"\",\"\",IF(OR(Meldeliste!I55=\"over 60\",Meldeliste!I55=\"over 70\",Meldeliste!I55=\"over 65\",Meldeliste!I55=\"over 75\",Meldeliste!I55=\"over 85\"),200,Meldeliste!I55))","v":""},"",{"$f":"IF(Meldeliste!K55=\"\",\"\",Meldeliste!K55)","v":""},null,null,null,null,{"$f":"IF(Meldeliste!$E$8=\"\",\"\",Meldeliste!$E$8)","v":""}]
[{"$f":"IF(Meldeliste!B56=\"\",\"\",Meldeliste!B56)","v":""},{"$f":"IF(Meldeliste!C56=\"\",\"\",Meldeliste!C56)","v":""},{"$f":"IF(Meldeliste!$E$6=\"\",\"\",Meldeliste!$E$6)","v":""},{"$f":"IF(Meldeliste!D56=\"\",\"\",Meldeliste!D56)","v":""},{"$f":"IF(Meldeliste!F56=\"\",\"\",Meldeliste!F56)","v":""},{"$f":"IF(Meldeliste!G56=\"\",\"\",Meldeliste!G56)","v":""},null,null,{"$f":"IF(Meldeliste!I56=\"\",\"\",IF(OR(Meldeliste!I56=\"over 60\",Meldeliste!I56=\"over 70\",Meldeliste!I56=\"over 65\",Meldeliste!I56=\"over 75\",Meldeliste!I56=\"over 85\"),200,Meldeliste!I56))","v":""},"",{"$f":"IF(Meldeliste!K56=\"\",\"\",Meldeliste!K56)","v":""},null,null,null,null,{"$f":"IF(Meldeliste!$E$8=\"\",\"\",Meldeliste!$E$8)","v":""}]
[{"$f":"IF(Meldeliste!B57=\"\",\"\",Meldeliste!B57)","v":""},{"$f":"IF(Meldeliste!C57=\"\",\"\",Meldeliste!C57)","v":""},{"$f":"IF(Meldeliste!$E$6=\"\",\"\",Meldeliste!$E$6)","v":""},{"$f":"IF(Meldeliste!D57=\"\",\"\",Meldeliste!D57)","v":""},{"$f":"IF(Meldeliste!F57=\"\",\"\",Meldeliste!F57)","v":""},{"$f":"IF(Meldeliste!G57=\"\",\"\",Meldeliste!G57)","v":""},null,null,{"$f":"IF(Meldeliste!I57=\"\",\"\",IF(OR(Meldeliste!I57=\"over 60\",Meldeliste!I57=\"over 70\",Meldeliste!I57=\"over 65\",Meldeliste!I57=\"over 75\",Meldeliste!I57=\"over 85\"),200,Meldeliste!I57))","v":""},"",{"$f":"IF(Meldeliste!K57=\"\",\"\",Meldeliste!K57)","v":""},null,null,null,null,{"$f":"IF(Meldeliste!$E$8=\"\",\"\",Meldeliste!$E$8)","v":""}]
[{"$f":"IF(Meldeliste!B58=\"\",\"\",Meldeliste!B58)","v":""},{"$f":"IF(Meldeliste!C58=\"\",\"\",Meldeliste!C58)","v":""},{"$f":"IF(Meldeliste!$E$6=\"\",\"\",Meldeliste!$E$6)","v":""},{"$f":"IF(Meldeliste!D58=\"\",\"\",Meldeliste!D58)","v":""},{"$f":"IF(Meldeliste!F58=\"\",\"\",Meldeliste!F58)","v":""},{"$f":"IF(Meldeliste!G58=\"\",\"\",Meldeliste!G58)","v":""},null,null,{"$f":"IF(Meldeliste!I58=\"\",\"\",IF(OR(Meldeliste!I58=\"over 60\",Meldeliste!I58=\"over 70\",Meldeliste!I58=\"over 65\",Meldeliste!I58=\"over 75\",Meldeliste!I58=\"over 85\"),200,Meldeliste!I58))","v":""},"",{"$f":"IF(Meldeliste!K58=\"\",\"\",Meldeliste!K58)","v":""},null,null,null,null,{"$f":"IF(Meldeliste!$E$8=\"\",\"\",Meldeliste!$E$8)","v":""}]
[{"$f":"IF(Meldeliste!B59=\"\",\"\",Meldeliste!B59)","v":""},{"$f":"IF(Meldeliste!C59=\"\",\"\",Meldeliste!C59)","v":""},{"$f":"IF(Meldeliste!$E$6=\"\",\"\",Meldeliste!$E$6)","v":""},{"$f":"IF(Meldeliste!D59=\"\",\"\",Meldeliste!D59)","v":""},{"$f":"IF(Meldeliste!F59=\"\",\"\",Meldeliste!F59)","v":""},{"$f":"IF(Meldeliste!G59=\"\",\"\",Meldeliste!G59)","v":""},null,null,{"$f":"IF(Meldeliste!I59=\"\",\"\",IF(OR(Meldeliste!I59=\"over 60\",Meldeliste!I59=\"over 70\",Meldeliste!I59=\"over 65\",Meldeliste!I59=\"over 75\",Meldeliste!I59=\"over 85\"),200,Meldeliste!I59))","v":""},"",{"$f":"IF(Meldeliste!K59=\"\",\"\",Meldeliste!K59)","v":""},null,null,null,null,{"$f":"IF(Meldeliste!$E$8=\"\",\"\",Meldeliste!$E$8)","v":""}]
[{"$f":"IF(Meldeliste!B60=\"\",\"\",Meldeliste!B60)","v":""},{"$f":"IF(Meldeliste!C60=\"\",\"\",Meldeliste!C60)","v":""},{"$f":"IF(Meldeliste!$E$6=\"\",\"\",Meldeliste!$E$6)","v":""},{"$f":"IF(Meldeliste!D60=\"\",\"\",Meldeliste!D60)","v":""},{"$f":"IF(Meldeliste!F60=\"\",\"\",Meldeliste!F60)","v":""},{"$f":"IF(Meldeliste!G60=\"\",\"\",Meldeliste!G60)","v":""},null,null,{"$f":"IF(Meldeliste!I60=\"\",\"\",IF(OR(Meldeliste!I60=\"over 60\",Meldeliste!I60=\"over 70\",Meldeliste!I60=\"over 65\",Meldeliste!I60=\"over 75\",Meldeliste!I60=\"over 85\"),200,Meldeliste!I60))","v":""},"",{"$f":"IF(Meldeliste!K60=\"\",\"\",Meldeliste!K60)","v":""},null,null,null,null,{"$f":"IF(Meldeliste!$E$8=\"\",\"\",Meldeliste!$E$8)","v":""}]
[{"$f":"IF(Meldeliste!B61=\"\",\"\",Meldeliste!B61)","v":""},{"$f":"IF(Meldeliste!C61=\"\",\"\",Meldeliste!C61)","v":""},{"$f":"IF(Meldeliste!$E$6=\"\",\"\",Meldeliste!$E$6)","v":""},{"$f":"IF(Meldeliste!D61=\"\",\"\",Meldeliste!D61)","v":""},{"$f":"IF(Meldeliste!F61=\"\",\"\",Meldeliste!F61)","v":""},{"$f":"IF(Meldeliste!G61=\"\",\"\",Meldeliste!G61)","v":""},null,null,{"$f":"IF(Meldeliste!I61=\"\",\"\",IF(OR(Meldeliste!I61=\"over 60\",Meldeliste!I61=\"over 70\",Meldeliste!I61=\"over 65\",Meldeliste!I61=\"over 75\",Meldeliste!I61=\"over 85\"),200,Meldeliste!I61))","v":""},"",{"$f":"IF(Meldeliste!K61=\"\",\"\",Meldeliste!K61)","v":""},null,null,null,null,{"$f":"IF(Meldeliste!$E$8=\"\",\"\",Meldeliste!$E$8)","v":""}]
[{"$f":"IF(Meldeliste!B62=\"\",\"\",Meldeliste!B62)","v":""},{"$f":"IF(Meldeliste!C62=\"\",\"\",Meldeliste!C62)","v":""},{"$f":"IF(Meldeliste!$E$6=\"\",\"\",Meldeliste!$E$6)","v":""},{"$f":"IF(Meldeliste!D62=\"\",\"\",Meldeliste!D62)","v":""},{"$f":"IF(Meldeliste!F62=\"\",\"\",Meldeliste!F62)","v":""},{"$f":"IF(Meldeliste!G62=\"\",\"\",Meldeliste!G62)","v":""},null,null,{"$f":"IF(Meldeliste!I62=\"\",\"\",IF(OR(Meldeliste!I62=\"over 60\",Meldeliste!I62=\"over 70\",Meldeliste!I62=\"over 65\",Meldeliste!I62=\"over 75\",Meldeliste!I62=\"over 85\"),200,Meldeliste!I62))","v":""},"",{"$f":"IF(Meldeliste!K62=\"\",\"\",Meldeliste!K62)","v":""},null,null,null,null,{"$f":"IF(Meldeliste!$E$8=\"\",\"\",Meldeliste!$E$8)","v":""}]
[{"$f":"IF(Meldeliste!B63=\"\",\"\",Meldeliste!B63)","v":""},{"$f":"IF(Meldeliste!C63=\"\",\"\",Meldeliste!C63)","v":""},{"$f":"IF(Meldeliste!$E$6=\"\",\"\",Meldeliste!$E$6)","v":""},{"$f":"IF(Meldeliste!D63=\"\",\"\",Meldeliste!D63)","v":""},{"$f":"IF(Meldeliste!F63=\"\",\"\",Meldeliste!F63)","v":""},{"$f":"IF(Meldeliste!G63=\"\",\"\",Meldeliste!G63)","v":""},null,null,{"$f":"IF(Meldeliste!I63=\"\",\"\",IF(OR(Meldeliste!I63=\"over 60\",Meldeliste!I63=\"over 70\",Meldeliste!I63=\"over 65\",Meldeliste!I63=\"over 75\",Meldeliste!I63=\"over 85\"),200,Meldeliste!I63))","v":""},"",{"$f":"IF(Meldeliste!K63=\"\",\"\",Meldeliste!K63)","v":""},null,null,null,null,{"$f":"IF(Meldeliste!$E$8=\"\",\"\",Meldeliste!$E$8)","v":""}]
[{"$f":"IF(Meldeliste!B64=\"\",\"\",Meldeliste!B64)","v":""},{"$f":"IF(Meldeliste!C64=\"\",\"\",Meldeliste!C64)","v":""},{"$f":"IF(Meldeliste!$E$6=\"\",\"\",Meldeliste!$E$6)","v":""},{"$f":"IF(Meldeliste!D64=\"\",\"\",Meldeliste!D64)","v":""},{"$f":"IF(Meldeliste!F64=\"\",\"\",Meldeliste!F64)","v":""},{"$f":"IF(Meldeliste!G64=\"\",\"\",Meldeliste!G64)","v":""},null,null,{"$f":"IF(Meldeliste!I64=\"\",\"\",IF(OR(Meldeliste!I64=\"over 60\",Meldeliste!I64=\"over 70\",Meldeliste!I64=\"over 65\",Meldeliste!I64=\"over 75\",Meldeliste!I64=\"over 85\"),200,Meldeliste!I64))","v":""},"",{"$f":"IF(Meldeliste!K64=\"\",\"\",Meldeliste!K64)","v":""},null,null,null,null,{"$f":"IF(Meldeliste!$E$8=\"\",\"\",Meldeliste!$E$8)","v":""}]
[{"$f":"IF(Meldeliste!B65=\"\",\"\",Meldeliste!B65)","v":""},{"$f":"IF(Meldeliste!C65=\"\",\"\",Meldeliste!C65)","v":""},{"$f":"IF(Meldeliste!$E$6=\"\",\"\",Meldeliste!$E$6)","v":""},{"$f":"IF(Meldeliste!D65=\"\",\"\",Meldeliste!D65)","v":""},{"$f":"IF(Meldeliste!F65=\"\",\"\",Meldeliste!F65)","v":""},{"$f":"IF(Meldeliste!G65=\"\",\"\",Meldeliste!G65)","v":""},null,null,{"$f":"IF(Meldeliste!I65=\"\",\"\",IF(OR(Meldeliste!I65=\"over 60\",Meldeliste!I65=\"over 70\",Meldeliste!I65=\"over 65\",Meldeliste!I65=\"over 75\",Meldeliste!I65=\"over 85\"),200,Meldeliste!I65))","v":""},"",{"$f":"IF(Meldeliste!K65=\"\",\"\",Meldeliste!K65)","v":""},null,null,null,null,{"$f":"IF(Meldeliste!$E$8=\"\",\"\",Meldeliste!$E$8)","v":""}]
[{"$f":"IF(Meldeliste!B66=\"\",\"\",Meldeliste!B66)","v":""},{"$f":"IF(Meldeliste!C66=\"\",\"\",Meldeliste!C66)","v":""},{"$f":"IF(Meldeliste!$E$6=\"\",\"\",Meldeliste!$E$6)","v":""},{"$f":"IF(Meldeliste!D66=\"\",\"\",Meldeliste!D66)","v":""},{"$f":"IF(Meldeliste!F66=\"\",\"\",Meldeliste!F66)","v":""},{"$f":"IF(Meldeliste!G66=\"\",\"\",Meldeliste!G66)","v":""},null,null,{"$f":"IF(Meldeliste!I66=\"\",\"\",IF(OR(Meldeliste!I66=\"over 60\",Meldeliste!I66=\"over 70\",Meldeliste!I66=\"over 65\",Meldeliste!I66=\"over 75\",Meldeliste!I66=\"over 85\"),200,Meldeliste!I66))","v":""},"",{"$f":"IF(Meldeliste!K66=\"\",\"\",Meldeliste!K66)","v":""},null,null,null,null,{"$f":"IF(Meldeliste!$E$8=\"\",\"\",Meldeliste!$E$8)","v":""}]
[{"$f":"IF(Meldeliste!B67=\"\",\"\",Meldeliste!B67)","v":""},{"$f":"IF(Meldeliste!C67=\"\",\"\",Meldeliste!C67)","v":""},{"$f":"IF(Meldeliste!$E$6=\"\",\"\",Meldeliste!$E$6)","v":""},{"$f":"IF(Meldeliste!D67=\"\",\"\",Meldeliste!D67)","v":""},{"$f":"IF(Meldeliste!F67=\"\",\"\",Meldeliste!F67)","v":""},{"$f":"IF(Meldeliste!G67=\"\",\"\",Meldeliste!G67)","v":""},null,null,{"$f":"IF(Meldeliste!I67=\"\",\"\",IF(OR(Meldeliste!I67=\"over 60\",Meldeliste!I67=\"over 70\",Meldeliste!I67=\"over 65\",Meldeliste!I67=\"over 75\",Meldeliste!I67=\"over 85\"),200,Meldeliste!I67))","v":""},"",{"$f":"IF(Meldeliste!K67=\"\",\"\",Meldeliste!K67)","v":""},null,null,null,null,{"$f":"IF(Meldeliste!$E$8=\"\",\"\",Meldeliste!$E$8)","v":""}]
[{"$f":"IF(Meldeliste!B68=\"\",\"\",Meldeliste!B68)","v":""},{"$f":"IF(Meldeliste!C68=\"\",\"\",Meldeliste!C68)","v":""},{"$f":"IF(Meldeliste!$E$6=\"\",\"\",Meldeliste!$E$6)","v":""},{"$f":"IF(Meldeliste!D68=\"\",\"\",Meldeliste!D68)","v":""},{"$f":"IF(Meldeliste!F68=\"\",\"\",Meldeliste!F68)","v":""},{"$f":"IF(Meldeliste!G68=\"\",\"\",Meldeliste!G68)","v":""},null,null,{"$f":"IF(Meldeliste!I68=\"\",\"\",IF(OR(Meldeliste!I68=\"over 60\",Meldeliste!I68=\"over 70\",Meldeliste!I68=\"over 65\",Meldeliste!I68=\"over 75\",Meldeliste!I68=\"over 85\"),200,Meldeliste!I68))","v":""},"",{"$f":"IF(Meldeliste!K68=\"\",\"\",Meldeliste!K68)","v":""},null,null,null,null,{"$f":"IF(Meldeliste!$E$8=\"\",\"\",Meldeliste!$E$8)","v":""}]
[{"$f":"IF(Meldeliste!B69=\"\",\"\",Meldeliste!B69)","v":""},{"$f":"IF(Meldeliste!C69=\"\",\"\",Meldeliste!C69)","v":""},{"$f":"IF(Meldeliste!$E$6=\"\",\"\",Meldeliste!$E$6)","v":""},{"$f":"IF(Meldeliste!D69=\"\",\"\",Meldeliste!D69)","v":""},{"$f":"IF(Meldeliste!F69=\"\",\"\",Meldeliste!F69)","v":""},{"$f":"IF(Meldeliste!G69=\"\",\"\",Meldeliste!G69)","v":""},null,null,{"$f":"IF(Meldeliste!I69=\"\",\"\",IF(OR(Meldeliste!I69=\"over 60\",Meldeliste!I69=\"over 70\",Meldeliste!I69=\"over 65\",Meldeliste!I69=\"over 75\",Meldeliste!I69=\"over 85\"),200,Meldeliste!I69))","v":""},"",{"$f":"IF(Meldeliste!K69=\"\",\"\",Meldeliste!K69)","v":""},null,null,null,null,{"$f":"IF(Meldeliste!$E$8=\"\",\"\",Meldeliste!$E$8)","v":""}]
[{"$f":"IF(Meldeliste!B70=\"\",\"\",Meldeliste!B70)","v":""},{"$f":"IF(Meldeliste!C70=\"\",\"\",Meldeliste!C70)","v":""},{"$f":"IF(Meldeliste!$E$6=\"\",\"\",Meldeliste!$E$6)","v":""},{"$f":"IF(Meldeliste!D70=\"\",\"\",Meldeliste!D70)","v":""},{"$f":"IF(Meldeliste!F70=\"\",\"\",Meldeliste!F70)","v":""},{"$f":"IF(Meldeliste!G70=\"\",\"\",Meldeliste!G70)","v":""},null,null,{"$f":"IF(Meldeliste!I70=\"\",\"\",IF(OR(Meldeliste!I70=\"over 60\",Meldeliste!I70=\"over 70\",Meldeliste!I70=\"over 65\",Meldeliste!I70=\"over 75\",Meldeliste!I70=\"over 85\"),200,Meldeliste!I70))","v":""},"",{"$f":"IF(Meldeliste!K70=\"\",\"\",Meldeliste!K70)","v":""},null,null,null,null,{"$f":"IF(Meldeliste!$E$8=\"\",\"\",Meldeliste!$E$8)","v":""}]
[{"$f":"IF(Meldeliste!B71=\"\",\"\",Meldeliste!B71)","v":""},{"$f":"IF(Meldeliste!C71=\"\",\"\",Meldeliste!C71)","v":""},{"$f":"IF(Meldeliste!$E$6=\"\",\"\",Meldeliste!$E$6)","v":""},{"$f":"IF(Meldeliste!D71=\"\",\"\",Meldeliste!D71)","v":""},{"$f":"IF(Meldeliste!F71=\"\",\"\",Meldeliste!F71)","v":""},{"$f":"IF(Meldeliste!G71=\"\",\"\",Meldeliste!G71)","v":""},null,null,{"$f":"IF(Meldeliste!I71=\"\",\"\",IF(OR(Meldeliste!I71=\"over 60\",Meldeliste!I71=\"over 70\",Meldeliste!I71=\"over 65\",Meldeliste!I71=\"over 75\",Meldeliste!I71=\"over 85\"),200,Meldeliste!I71))","v":""},"",{"$f":"IF(Meldeliste!K71=\"\",\"\",Meldeliste!K71)","v":""},null,null,null,null,{"$f":"IF(Meldeliste!$E$8=\"\",\"\",Meldeliste!$E$8)","v":""}]
[{"$f":"IF(Meldeliste!B72=\"\",\"\",Meldeliste!B72)","v":""},{"$f":"IF(Meldeliste!C72=\"\",\"\",Meldeliste!C72)","v":""},{"$f":"IF(Meldeliste!$E$6=\"\",\"\",Meldeliste!$E$6)","v":""},{"$f":"IF(Meldeliste!D72=\"\",\"\",Meldeliste!D72)","v":""},{"$f":"IF(Meldeliste!F72=\"\",\"\",Meldeliste!F72)","v":""},{"$f":"IF(Meldeliste!G72=\"\",\"\",Meldeliste!G72)","v":""},null,null,{"$f":"IF(Meldeliste!I72=\"\",\"\",IF(OR(Meldeliste!I72=\"over 60\",Meldeliste!I72=\"over 70\",Meldeliste!I72=\"over 65\",Meldeliste!I72=\"over 75\",Meldeliste!I72=\"over 85\"),200,Meldeliste!I72))","v":""},"",{"$f":"IF(Meldeliste!K72=\"\",\"\",Meldeliste!K72)","v":""},null,null,null,null,{"$f":"IF(Meldeliste!$E$8=\"\",\"\",Meldeliste!$E$8)","v":""}]

{"sheet":"Team","index":2,"n_rows":27,"n_cols":10,"rows_kept":27,"cut":false,"hidden":true,"merged":[]}
["Verein","Familienname","Vorname","Geb. Datum","m / w","Grad.","cm Kg","Pre","Kampf","Tul"]
[{"$f":"IF(Meldeliste!E$10=\"\",\"\",Meldeliste!E$10)","v":""},{"$f":"IF(AND(H2=\"\",I2=\"\",J2=\"\"),\"\",Meldeliste!B38)","v":{"$error":"#REF!"}},{"$f":"IF(AND(H2=\"\",I2=\"\",J2=\"\"),\"\",Meldeliste!C38)","v":{"$error":"#REF!"}},{"$f":"IF(AND(H2=\"\",I2=\"\",J2=\"\"),\"\",Meldeliste!D38)","v":{"$error":"#REF!"}},{"$f":"IF(AND(H2=\"\",I2=\"\",J2=\"\"),\"\",Meldeliste!F38)","v":{"$error":"#REF!"}},{"$f":"IF(AND(H2=\"\",I2=\"\",J2=\"\"),\"\",Meldeliste!G38)","v":{"$error":"#REF!"}},{"$f":"IF(AND(H2=\"\",I2=\"\",J2=\"\"),\"\",Meldeliste!#REF!)","v":{"$error":"#REF!"}},{"$f":"IF(Meldeliste!#REF!=\"\",\"\",Meldeliste!#REF!)","v":{"$error":"#REF!"}},{"$f":"IF(Meldeliste!#REF!=\"\",\"\",Meldeliste!#REF!)","v":{"$error":"#REF!"}},{"$f":"IF(Meldeliste!#REF!=\"\",\"\",Meldeliste!#REF!)","v":{"$error":"#REF!"}}]
[{"$f":"IF(Meldeliste!E$10=\"\",\"\",Meldeliste!E$10)","v":""},{"$f":"IF(AND(H3=\"\",I3=\"\",J3=\"\"),\"\",Meldeliste!B39)","v":{"$error":"#REF!"}},{"$f":"IF(AND(H3=\"\",I3=\"\",J3=\"\"),\"\",Meldeliste!C39)","v":{"$error":"#REF!"}},{"$f":"IF(AND(H3=\"\",I3=\"\",J3=\"\"),\"\",Meldeliste!D39)","v":{"$error":"#REF!"}},{"$f":"IF(AND(H3=\"\",I3=\"\",J3=\"\"),\"\",Meldeliste!F39)","v":{"$error":"#REF!"}},{"$f":"IF(AND(H3=\"\",I3=\"\",J3=\"\"),\"\",Meldeliste!G39)","v":{"$error":"#REF!"}},{"$f":"IF(AND(H3=\"\",I3=\"\",J3=\"\"),\"\",Meldeliste!#REF!)","v":{"$error":"#REF!"}},{"$f":"IF(Meldeliste!#REF!=\"\",\"\",Meldeliste!#REF!)","v":{"$error":"#REF!"}},{"$f":"IF(Meldeliste!#REF!=\"\",\"\",Meldeliste!#REF!)","v":{"$error":"#REF!"}},{"$f":"IF(Meldeliste!#REF!=\"\",\"\",Meldeliste!#REF!)","v":{"$error":"#REF!"}}]
[{"$f":"IF(Meldeliste!E$10=\"\",\"\",Meldeliste!E$10)","v":""},{"$f":"IF(AND(H4=\"\",I4=\"\",J4=\"\"),\"\",Meldeliste!B40)","v":{"$error":"#REF!"}},{"$f":"IF(AND(H4=\"\",I4=\"\",J4=\"\"),\"\",Meldeliste!C40)","v":{"$error":"#REF!"}},{"$f":"IF(AND(H4=\"\",I4=\"\",J4=\"\"),\"\",Meldeliste!D40)","v":{"$error":"#REF!"}},{"$f":"IF(AND(H4=\"\",I4=\"\",J4=\"\"),\"\",Meldeliste!F40)","v":{"$error":"#REF!"}},{"$f":"IF(AND(H4=\"\",I4=\"\",J4=\"\"),\"\",Meldeliste!G40)","v":{"$error":"#REF!"}},{"$f":"IF(AND(H4=\"\",I4=\"\",J4=\"\"),\"\",Meldeliste!#REF!)","v":{"$error":"#REF!"}},{"$f":"IF(Meldeliste!#REF!=\"\",\"\",Meldeliste!#REF!)","v":{"$error":"#REF!"}},{"$f":"IF(Meldeliste!#REF!=\"\",\"\",Meldeliste!#REF!)","v":{"$error":"#REF!"}},{"$f":"IF(Meldeliste!#REF!=\"\",\"\",Meldeliste!#REF!)","v":{"$error":"#REF!"}}]
[{"$f":"IF(Meldeliste!E$10=\"\",\"\",Meldeliste!E$10)","v":""},{"$f":"IF(AND(H5=\"\",I5=\"\",J5=\"\"),\"\",Meldeliste!B41)","v":{"$error":"#REF!"}},{"$f":"IF(AND(H5=\"\",I5=\"\",J5=\"\"),\"\",Meldeliste!C41)","v":{"$error":"#REF!"}},{"$f":"IF(AND(H5=\"\",I5=\"\",J5=\"\"),\"\",Meldeliste!D41)","v":{"$error":"#REF!"}},{"$f":"IF(AND(H5=\"\",I5=\"\",J5=\"\"),\"\",Meldeliste!F41)","v":{"$error":"#REF!"}},{"$f":"IF(AND(H5=\"\",I5=\"\",J5=\"\"),\"\",Meldeliste!G41)","v":{"$error":"#REF!"}},{"$f":"IF(AND(H5=\"\",I5=\"\",J5=\"\"),\"\",Meldeliste!#REF!)","v":{"$error":"#REF!"}},{"$f":"IF(Meldeliste!#REF!=\"\",\"\",Meldeliste!#REF!)","v":{"$error":"#REF!"}},{"$f":"IF(Meldeliste!#REF!=\"\",\"\",Meldeliste!#REF!)","v":{"$error":"#REF!"}},{"$f":"IF(Meldeliste!#REF!=\"\",\"\",Meldeliste!#REF!)","v":{"$error":"#REF!"}}]
[{"$f":"IF(Meldeliste!E$10=\"\",\"\",Meldeliste!E$10)","v":""},{"$f":"IF(AND(H6=\"\",I6=\"\",J6=\"\"),\"\",Meldeliste!B42)","v":{"$error":"#REF!"}},{"$f":"IF(AND(H6=\"\",I6=\"\",J6=\"\"),\"\",Meldeliste!C42)","v":{"$error":"#REF!"}},{"$f":"IF(AND(H6=\"\",I6=\"\",J6=\"\"),\"\",Meldeliste!D42)","v":{"$error":"#REF!"}},{"$f":"IF(AND(H6=\"\",I6=\"\",J6=\"\"),\"\",Meldeliste!F42)","v":{"$error":"#REF!"}},{"$f":"IF(AND(H6=\"\",I6=\"\",J6=\"\"),\"\",Meldeliste!G42)","v":{"$error":"#REF!"}},{"$f":"IF(AND(H6=\"\",I6=\"\",J6=\"\"),\"\",Meldeliste!#REF!)","v":{"$error":"#REF!"}},{"$f":"IF(Meldeliste!#REF!=\"\",\"\",Meldeliste!#REF!)","v":{"$error":"#REF!"}},{"$f":"IF(Meldeliste!#REF!=\"\",\"\",Meldeliste!#REF!)","v":{"$error":"#REF!"}},{"$f":"IF(Meldeliste!#REF!=\"\",\"\",Meldeliste!#REF!)","v":{"$error":"#REF!"}}]
[{"$f":"IF(Meldeliste!E$10=\"\",\"\",Meldeliste!E$10)","v":""},{"$f":"IF(AND(H7=\"\",I7=\"\",J7=\"\"),\"\",Meldeliste!B43)","v":{"$error":"#REF!"}},{"$f":"IF(AND(H7=\"\",I7=\"\",J7=\"\"),\"\",Meldeliste!C43)","v":{"$error":"#REF!"}},{"$f":"IF(AND(H7=\"\",I7=\"\",J7=\"\"),\"\",Meldeliste!D43)","v":{"$error":"#REF!"}},{"$f":"IF(AND(H7=\"\",I7=\"\",J7=\"\"),\"\",Meldeliste!F43)","v":{"$error":"#REF!"}},{"$f":"IF(AND(H7=\"\",I7=\"\",J7=\"\"),\"\",Meldeliste!G43)","v":{"$error":"#REF!"}},{"$f":"IF(AND(H7=\"\",I7=\"\",J7=\"\"),\"\",Meldeliste!#REF!)","v":{"$error":"#REF!"}},{"$f":"IF(Meldeliste!#REF!=\"\",\"\",Meldeliste!#REF!)","v":{"$error":"#REF!"}},{"$f":"IF(Meldeliste!#REF!=\"\",\"\",Meldeliste!#REF!)","v":{"$error":"#REF!"}},{"$f":"IF(Meldeliste!#REF!=\"\",\"\",Meldeliste!#REF!)","v":{"$error":"#REF!"}}]
[{"$f":"IF(Meldeliste!E$10=\"\",\"\",Meldeliste!E$10)","v":""},{"$f":"IF(AND(H8=\"\",I8=\"\",J8=\"\"),\"\",Meldeliste!B44)","v":{"$error":"#REF!"}},{"$f":"IF(AND(H8=\"\",I8=\"\",J8=\"\"),\"\",Meldeliste!C44)","v":{"$error":"#REF!"}},{"$f":"IF(AND(H8=\"\",I8=\"\",J8=\"\"),\"\",Meldeliste!D44)","v":{"$error":"#REF!"}},{"$f":"IF(AND(H8=\"\",I8=\"\",J8=\"\"),\"\",Meldeliste!F44)","v":{"$error":"#REF!"}},{"$f":"IF(AND(H8=\"\",I8=\"\",J8=\"\"),\"\",Meldeliste!G44)","v":{"$error":"#REF!"}},{"$f":"IF(AND(H8=\"\",I8=\"\",J8=\"\"),\"\",Meldeliste!#REF!)","v":{"$error":"#REF!"}},{"$f":"IF(Meldeliste!#REF!=\"\",\"\",Meldeliste!#REF!)","v":{"$error":"#REF!"}},{"$f":"IF(Meldeliste!#REF!=\"\",\"\",Meldeliste!#REF!)","v":{"$error":"#REF!"}},{"$f":"IF(Meldeliste!#REF!=\"\",\"\",Meldeliste!#REF!)","v":{"$error":"#REF!"}}]
[{"$f":"IF(Meldeliste!E$10=\"\",\"\",Meldeliste!E$10)","v":""},{"$f":"IF(AND(H9=\"\",I9=\"\",J9=\"\"),\"\",Meldeliste!B45)","v":{"$error":"#REF!"}},{"$f":"IF(AND(H9=\"\",I9=\"\",J9=\"\"),\"\",Meldeliste!C45)","v":{"$error":"#REF!"}},{"$f":"IF(AND(H9=\"\",I9=\"\",J9=\"\"),\"\",Meldeliste!D45)","v":{"$error":"#REF!"}},{"$f":"IF(AND(H9=\"\",I9=\"\",J9=\"\"),\"\",Meldeliste!F45)","v":{"$error":"#REF!"}},{"$f":"IF(AND(H9=\"\",I9=\"\",J9=\"\"),\"\",Meldeliste!G45)","v":{"$error":"#REF!"}},{"$f":"IF(AND(H9=\"\",I9=\"\",J9=\"\"),\"\",Meldeliste!#REF!)","v":{"$error":"#REF!"}},{"$f":"IF(Meldeliste!#REF!=\"\",\"\",Meldeliste!#REF!)","v":{"$error":"#REF!"}},{"$f":"IF(Meldeliste!#REF!=\"\",\"\",Meldeliste!#REF!)","v":{"$error":"#REF!"}},{"$f":"IF(Meldeliste!#REF!=\"\",\"\",Meldeliste!#REF!)","v":{"$error":"#REF!"}}]
[{"$f":"IF(Meldeliste!E$10=\"\",\"\",Meldeliste!E$10)","v":""},{"$f":"IF(AND(H10=\"\",I10=\"\",J10=\"\"),\"\",Meldeliste!B46)","v":{"$error":"#REF!"}},{"$f":"IF(AND(H10=\"\",I10=\"\",J10=\"\"),\"\",Meldeliste!C46)","v":{"$error":"#REF!"}},{"$f":"IF(AND(H10=\"\",I10=\"\",J10=\"\"),\"\",Meldeliste!D46)","v":{"$error":"#REF!"}},{"$f":"IF(AND(H10=\"\",I10=\"\",J10=\"\"),\"\",Meldeliste!F46)","v":{"$error":"#REF!"}},{"$f":"IF(AND(H10=\"\",I10=\"\",J10=\"\"),\"\",Meldeliste!G46)","v":{"$error":"#REF!"}},{"$f":"IF(AND(H10=\"\",I10=\"\",J10=\"\"),\"\",Meldeliste!#REF!)","v":{"$error":"#REF!"}},{"$f":"IF(Meldeliste!#REF!=\"\",\"\",Meldeliste!#REF!)","v":{"$error":"#REF!"}},{"$f":"IF(Meldeliste!#REF!=\"\",\"\",Meldeliste!#REF!)","v":{"$error":"#REF!"}},{"$f":"IF(Meldeliste!#REF!=\"\",\"\",Meldeliste!#REF!)","v":{"$error":"#REF!"}}]
[{"$f":"IF(Meldeliste!E$10=\"\",\"\",Meldeliste!E$10)","v":""},{"$f":"IF(AND(H11=\"\",I11=\"\",J11=\"\"),\"\",Meldeliste!B47)","v":{"$error":"#REF!"}},{"$f":"IF(AND(H11=\"\",I11=\"\",J11=\"\"),\"\",Meldeliste!C47)","v":{"$error":"#REF!"}},{"$f":"IF(AND(H11=\"\",I11=\"\",J11=\"\"),\"\",Meldeliste!D47)","v":{"$error":"#REF!"}},{"$f":"IF(AND(H11=\"\",I11=\"\",J11=\"\"),\"\",Meldeliste!F47)","v":{"$error":"#REF!"}},{"$f":"IF(AND(H11=\"\",I11=\"\",J11=\"\"),\"\",Meldeliste!G47)","v":{"$error":"#REF!"}},{"$f":"IF(AND(H11=\"\",I11=\"\",J11=\"\"),\"\",Meldeliste!#REF!)","v":{"$error":"#REF!"}},{"$f":"IF(Meldeliste!#REF!=\"\",\"\",Meldeliste!#REF!)","v":{"$error":"#REF!"}},{"$f":"IF(Meldeliste!#REF!=\"\",\"\",Meldeliste!#REF!)","v":{"$error":"#REF!"}},{"$f":"IF(Meldeliste!#REF!=\"\",\"\",Meldeliste!#REF!)","v":{"$error":"#REF!"}}]
[{"$f":"IF(Meldeliste!E$10=\"\",\"\",Meldeliste!E$10)","v":""},{"$f":"IF(AND(H12=\"\",I12=\"\",J12=\"\"),\"\",Meldeliste!B48)","v":{"$error":"#REF!"}},{"$f":"IF(AND(H12=\"\",I12=\"\",J12=\"\"),\"\",Meldeliste!C48)","v":{"$error":"#REF!"}},{"$f":"IF(AND(H12=\"\",I12=\"\",J12=\"\"),\"\",Meldeliste!D48)","v":{"$error":"#REF!"}},{"$f":"IF(AND(H12=\"\",I12=\"\",J12=\"\"),\"\",Meldeliste!F48)","v":{"$error":"#REF!"}},{"$f":"IF(AND(H12=\"\",I12=\"\",J12=\"\"),\"\",Meldeliste!G48)","v":{"$error":"#REF!"}},{"$f":"IF(AND(H12=\"\",I12=\"\",J12=\"\"),\"\",Meldeliste!#REF!)","v":{"$error":"#REF!"}},{"$f":"IF(Meldeliste!#REF!=\"\",\"\",Meldeliste!#REF!)","v":{"$error":"#REF!"}},{"$f":"IF(Meldeliste!#REF!=\"\",\"\",Meldeliste!#REF!)","v":{"$error":"#REF!"}},{"$f":"IF(Meldeliste!#REF!=\"\",\"\",Meldeliste!#REF!)","v":{"$error":"#REF!"}}]
[{"$f":"IF(Meldeliste!E$10=\"\",\"\",Meldeliste!E$10)","v":""},{"$f":"IF(AND(H13=\"\",I13=\"\",J13=\"\"),\"\",Meldeliste!B49)","v":{"$error":"#REF!"}},{"$f":"IF(AND(H13=\"\",I13=\"\",J13=\"\"),\"\",Meldeliste!C49)","v":{"$error":"#REF!"}},{"$f":"IF(AND(H13=\"\",I13=\"\",J13=\"\"),\"\",Meldeliste!D49)","v":{"$error":"#REF!"}},{"$f":"IF(AND(H13=\"\",I13=\"\",J13=\"\"),\"\",Meldeliste!F49)","v":{"$error":"#REF!"}},{"$f":"IF(AND(H13=\"\",I13=\"\",J13=\"\"),\"\",Meldeliste!G49)","v":{"$error":"#REF!"}},{"$f":"IF(AND(H13=\"\",I13=\"\",J13=\"\"),\"\",Meldeliste!#REF!)","v":{"$error":"#REF!"}},{"$f":"IF(Meldeliste!#REF!=\"\",\"\",Meldeliste!#REF!)","v":{"$error":"#REF!"}},{"$f":"IF(Meldeliste!#REF!=\"\",\"\",Meldeliste!#REF!)","v":{"$error":"#REF!"}},{"$f":"IF(Meldeliste!#REF!=\"\",\"\",Meldeliste!#REF!)","v":{"$error":"#REF!"}}]
[{"$f":"IF(Meldeliste!E$10=\"\",\"\",Meldeliste!E$10)","v":""},{"$f":"IF(AND(H14=\"\",I14=\"\",J14=\"\"),\"\",Meldeliste!B50)","v":{"$error":"#REF!"}},{"$f":"IF(AND(H14=\"\",I14=\"\",J14=\"\"),\"\",Meldeliste!C50)","v":{"$error":"#REF!"}},{"$f":"IF(AND(H14=\"\",I14=\"\",J14=\"\"),\"\",Meldeliste!D50)","v":{"$error":"#REF!"}},{"$f":"IF(AND(H14=\"\",I14=\"\",J14=\"\"),\"\",Meldeliste!F50)","v":{"$error":"#REF!"}},{"$f":"IF(AND(H14=\"\",I14=\"\",J14=\"\"),\"\",Meldeliste!G50)","v":{"$error":"#REF!"}},{"$f":"IF(AND(H14=\"\",I14=\"\",J14=\"\"),\"\",Meldeliste!#REF!)","v":{"$error":"#REF!"}},{"$f":"IF(Meldeliste!#REF!=\"\",\"\",Meldeliste!#REF!)","v":{"$error":"#REF!"}},{"$f":"IF(Meldeliste!#REF!=\"\",\"\",Meldeliste!#REF!)","v":{"$error":"#REF!"}},{"$f":"IF(Meldeliste!#REF!=\"\",\"\",Meldeliste!#REF!)","v":{"$error":"#REF!"}}]
[{"$f":"IF(Meldeliste!E$10=\"\",\"\",Meldeliste!E$10)","v":""},{"$f":"IF(AND(H15=\"\",I15=\"\",J15=\"\"),\"\",Meldeliste!B51)","v":{"$error":"#REF!"}},{"$f":"IF(AND(H15=\"\",I15=\"\",J15=\"\"),\"\",Meldeliste!C51)","v":{"$error":"#REF!"}},{"$f":"IF(AND(H15=\"\",I15=\"\",J15=\"\"),\"\",Meldeliste!D51)","v":{"$error":"#REF!"}},{"$f":"IF(AND(H15=\"\",I15=\"\",J15=\"\"),\"\",Meldeliste!F51)","v":{"$error":"#REF!"}},{"$f":"IF(AND(H15=\"\",I15=\"\",J15=\"\"),\"\",Meldeliste!G51)","v":{"$error":"#REF!"}},{"$f":"IF(AND(H15=\"\",I15=\"\",J15=\"\"),\"\",Meldeliste!#REF!)","v":{"$error":"#REF!"}},{"$f":"IF(Meldeliste!#REF!=\"\",\"\",Meldeliste!#REF!)","v":{"$error":"#REF!"}},{"$f":"IF(Meldeliste!#REF!=\"\",\"\",Meldeliste!#REF!)","v":{"$error":"#REF!"}},{"$f":"IF(Meldeliste!#REF!=\"\",\"\",Meldeliste!#REF!)","v":{"$error":"#REF!"}}]
[{"$f":"IF(Meldeliste!E$10=\"\",\"\",Meldeliste!E$10)","v":""},{"$f":"IF(AND(H16=\"\",I16=\"\",J16=\"\"),\"\",Meldeliste!B52)","v":{"$error":"#REF!"}},{"$f":"IF(AND(H16=\"\",I16=\"\",J16=\"\"),\"\",Meldeliste!C52)","v":{"$error":"#REF!"}},{"$f":"IF(AND(H16=\"\",I16=\"\",J16=\"\"),\"\",Meldeliste!D52)","v":{"$error":"#REF!"}},{"$f":"IF(AND(H16=\"\",I16=\"\",J16=\"\"),\"\",Meldeliste!F52)","v":{"$error":"#REF!"}},{"$f":"IF(AND(H16=\"\",I16=\"\",J16=\"\"),\"\",Meldeliste!G52)","v":{"$error":"#REF!"}},{"$f":"IF(AND(H16=\"\",I16=\"\",J16=\"\"),\"\",Meldeliste!#REF!)","v":{"$error":"#REF!"}},{"$f":"IF(Meldeliste!#REF!=\"\",\"\",Meldeliste!#REF!)","v":{"$error":"#REF!"}},{"$f":"IF(Meldeliste!#REF!=\"\",\"\",Meldeliste!#REF!)","v":{"$error":"#REF!"}},{"$f":"IF(Meldeliste!#REF!=\"\",\"\",Meldeliste!#REF!)","v":{"$error":"#REF!"}}]
[{"$f":"IF(Meldeliste!E$10=\"\",\"\",Meldeliste!E$10)","v":""},{"$f":"IF(AND(H17=\"\",I17=\"\",J17=\"\"),\"\",Meldeliste!B53)","v":{"$error":"#REF!"}},{"$f":"IF(AND(H17=\"\",I17=\"\",J17=\"\"),\"\",Meldeliste!C53)","v":{"$error":"#REF!"}},{"$f":"IF(AND(H17=\"\",I17=\"\",J17=\"\"),\"\",Meldeliste!D53)","v":{"$error":"#REF!"}},{"$f":"IF(AND(H17=\"\",I17=\"\",J17=\"\"),\"\",Meldeliste!F53)","v":{"$error":"#REF!"}},{"$f":"IF(AND(H17=\"\",I17=\"\",J17=\"\"),\"\",Meldeliste!G53)","v":{"$error":"#REF!"}},{"$f":"IF(AND(H17=\"\",I17=\"\",J17=\"\"),\"\",Meldeliste!#REF!)","v":{"$error":"#REF!"}},{"$f":"IF(Meldeliste!#REF!=\"\",\"\",Meldeliste!#REF!)","v":{"$error":"#REF!"}},{"$f":"IF(Meldeliste!#REF!=\"\",\"\",Meldeliste!#REF!)","v":{"$error":"#REF!"}},{"$f":"IF(Meldeliste!#REF!=\"\",\"\",Meldeliste!#REF!)","v":{"$error":"#REF!"}}]
[{"$f":"IF(Meldeliste!E$10=\"\",\"\",Meldeliste!E$10)","v":""},{"$f":"IF(AND(H18=\"\",I18=\"\",J18=\"\"),\"\",Meldeliste!B54)","v":{"$error":"#REF!"}},{"$f":"IF(AND(H18=\"\",I18=\"\",J18=\"\"),\"\",Meldeliste!C54)","v":{"$error":"#REF!"}},{"$f":"IF(AND(H18=\"\",I18=\"\",J18=\"\"),\"\",Meldeliste!D54)","v":{"$error":"#REF!"}},{"$f":"IF(AND(H18=\"\",I18=\"\",J18=\"\"),\"\",Meldeliste!F54)","v":{"$error":"#REF!"}},{"$f":"IF(AND(H18=\"\",I18=\"\",J18=\"\"),\"\",Meldeliste!G54)","v":{"$error":"#REF!"}},{"$f":"IF(AND(H18=\"\",I18=\"\",J18=\"\"),\"\",Meldeliste!#REF!)","v":{"$error":"#REF!"}},{"$f":"IF(Meldeliste!#REF!=\"\",\"\",Meldeliste!#REF!)","v":{"$error":"#REF!"}},{"$f":"IF(Meldeliste!#REF!=\"\",\"\",Meldeliste!#REF!)","v":{"$error":"#REF!"}},{"$f":"IF(Meldeliste!#REF!=\"\",\"\",Meldeliste!#REF!)","v":{"$error":"#REF!"}}]
[{"$f":"IF(Meldeliste!E$10=\"\",\"\",Meldeliste!E$10)","v":""},{"$f":"IF(AND(H19=\"\",I19=\"\",J19=\"\"),\"\",Meldeliste!B55)","v":{"$error":"#REF!"}},{"$f":"IF(AND(H19=\"\",I19=\"\",J19=\"\"),\"\",Meldeliste!C55)","v":{"$error":"#REF!"}},{"$f":"IF(AND(H19=\"\",I19=\"\",J19=\"\"),\"\",Meldeliste!D55)","v":{"$error":"#REF!"}},{"$f":"IF(AND(H19=\"\",I19=\"\",J19=\"\"),\"\",Meldeliste!F55)","v":{"$error":"#REF!"}},{"$f":"IF(AND(H19=\"\",I19=\"\",J19=\"\"),\"\",Meldeliste!G55)","v":{"$error":"#REF!"}},{"$f":"IF(AND(H19=\"\",I19=\"\",J19=\"\"),\"\",Meldeliste!#REF!)","v":{"$error":"#REF!"}},{"$f":"IF(Meldeliste!#REF!=\"\",\"\",Meldeliste!#REF!)","v":{"$error":"#REF!"}},{"$f":"IF(Meldeliste!#REF!=\"\",\"\",Meldeliste!#REF!)","v":{"$error":"#REF!"}},{"$f":"IF(Meldeliste!#REF!=\"\",\"\",Meldeliste!#REF!)","v":{"$error":"#REF!"}}]
[{"$f":"IF(Meldeliste!E$10=\"\",\"\",Meldeliste!E$10)","v":""},{"$f":"IF(AND(H20=\"\",I20=\"\",J20=\"\"),\"\",Meldeliste!B56)","v":{"$error":"#REF!"}},{"$f":"IF(AND(H20=\"\",I20=\"\",J20=\"\"),\"\",Meldeliste!C56)","v":{"$error":"#REF!"}},{"$f":"IF(AND(H20=\"\",I20=\"\",J20=\"\"),\"\",Meldeliste!D56)","v":{"$error":"#REF!"}},{"$f":"IF(AND(H20=\"\",I20=\"\",J20=\"\"),\"\",Meldeliste!F56)","v":{"$error":"#REF!"}},{"$f":"IF(AND(H20=\"\",I20=\"\",J20=\"\"),\"\",Meldeliste!G56)","v":{"$error":"#REF!"}},{"$f":"IF(AND(H20=\"\",I20=\"\",J20=\"\"),\"\",Meldeliste!#REF!)","v":{"$error":"#REF!"}},{"$f":"IF(Meldeliste!#REF!=\"\",\"\",Meldeliste!#REF!)","v":{"$error":"#REF!"}},{"$f":"IF(Meldeliste!#REF!=\"\",\"\",Meldeliste!#REF!)","v":{"$error":"#REF!"}},{"$f":"IF(Meldeliste!#REF!=\"\",\"\",Meldeliste!#REF!)","v":{"$error":"#REF!"}}]
[{"$f":"IF(Meldeliste!E$10=\"\",\"\",Meldeliste!E$10)","v":""},{"$f":"IF(AND(H21=\"\",I21=\"\",J21=\"\"),\"\",Meldeliste!B57)","v":{"$error":"#REF!"}},{"$f":"IF(AND(H21=\"\",I21=\"\",J21=\"\"),\"\",Meldeliste!C57)","v":{"$error":"#REF!"}},{"$f":"IF(AND(H21=\"\",I21=\"\",J21=\"\"),\"\",Meldeliste!D57)","v":{"$error":"#REF!"}},{"$f":"IF(AND(H21=\"\",I21=\"\",J21=\"\"),\"\",Meldeliste!F57)","v":{"$error":"#REF!"}},{"$f":"IF(AND(H21=\"\",I21=\"\",J21=\"\"),\"\",Meldeliste!G57)","v":{"$error":"#REF!"}},{"$f":"IF(AND(H21=\"\",I21=\"\",J21=\"\"),\"\",Meldeliste!#REF!)","v":{"$error":"#REF!"}},{"$f":"IF(Meldeliste!#REF!=\"\",\"\",Meldeliste!#REF!)","v":{"$error":"#REF!"}},{"$f":"IF(Meldeliste!#REF!=\"\",\"\",Meldeliste!#REF!)","v":{"$error":"#REF!"}},{"$f":"IF(Meldeliste!#REF!=\"\",\"\",Meldeliste!#REF!)","v":{"$error":"#REF!"}}]
[{"$f":"IF(Meldeliste!E$10=\"\",\"\",Meldeliste!E$10)","v":""},{"$f":"IF(AND(H22=\"\",I22=\"\",J22=\"\"),\"\",Meldeliste!B68)","v":{"$error":"#REF!"}},{"$f":"IF(AND(H22=\"\",I22=\"\",J22=\"\"),\"\",Meldeliste!C68)","v":{"$error":"#REF!"}},{"$f":"IF(AND(H22=\"\",I22=\"\",J22=\"\"),\"\",Meldeliste!D68)","v":{"$error":"#REF!"}},{"$f":"IF(AND(H22=\"\",I22=\"\",J22=\"\"),\"\",Meldeliste!F68)","v":{"$error":"#REF!"}},{"$f":"IF(AND(H22=\"\",I22=\"\",J22=\"\"),\"\",Meldeliste!G68)","v":{"$error":"#REF!"}},{"$f":"IF(AND(H22=\"\",I22=\"\",J22=\"\"),\"\",Meldeliste!#REF!)","v":{"$error":"#REF!"}},{"$f":"IF(Meldeliste!#REF!=\"\",\"\",Meldeliste!#REF!)","v":{"$error":"#REF!"}},{"$f":"IF(Meldeliste!#REF!=\"\",\"\",Meldeliste!#REF!)","v":{"$error":"#REF!"}},{"$f":"IF(Meldeliste!#REF!=\"\",\"\",Meldeliste!#REF!)","v":{"$error":"#REF!"}}]
[{"$f":"IF(Meldeliste!E$10=\"\",\"\",Meldeliste!E$10)","v":""},{"$f":"IF(AND(H23=\"\",I23=\"\",J23=\"\"),\"\",Meldeliste!B69)","v":{"$error":"#REF!"}},{"$f":"IF(AND(H23=\"\",I23=\"\",J23=\"\"),\"\",Meldeliste!C69)","v":{"$error":"#REF!"}},{"$f":"IF(AND(H23=\"\",I23=\"\",J23=\"\"),\"\",Meldeliste!D69)","v":{"$error":"#REF!"}},{"$f":"IF(AND(H23=\"\",I23=\"\",J23=\"\"),\"\",Meldeliste!F69)","v":{"$error":"#REF!"}},{"$f":"IF(AND(H23=\"\",I23=\"\",J23=\"\"),\"\",Meldeliste!G69)","v":{"$error":"#REF!"}},{"$f":"IF(AND(H23=\"\",I23=\"\",J23=\"\"),\"\",Meldeliste!#REF!)","v":{"$error":"#REF!"}},{"$f":"IF(Meldeliste!#REF!=\"\",\"\",Meldeliste!#REF!)","v":{"$error":"#REF!"}},{"$f":"IF(Meldeliste!#REF!=\"\",\"\",Meldeliste!#REF!)","v":{"$error":"#REF!"}},{"$f":"IF(Meldeliste!#REF!=\"\",\"\",Meldeliste!#REF!)","v":{"$error":"#REF!"}}]
[{"$f":"IF(Meldeliste!E$10=\"\",\"\",Meldeliste!E$10)","v":""},{"$f":"IF(AND(H24=\"\",I24=\"\",J24=\"\"),\"\",Meldeliste!B70)","v":{"$error":"#REF!"}},{"$f":"IF(AND(H24=\"\",I24=\"\",J24=\"\"),\"\",Meldeliste!C70)","v":{"$error":"#REF!"}},{"$f":"IF(AND(H24=\"\",I24=\"\",J24=\"\"),\"\",Meldeliste!D70)","v":{"$error":"#REF!"}},{"$f":"IF(AND(H24=\"\",I24=\"\",J24=\"\"),\"\",Meldeliste!F70)","v":{"$error":"#REF!"}},{"$f":"IF(AND(H24=\"\",I24=\"\",J24=\"\"),\"\",Meldeliste!G70)","v":{"$error":"#REF!"}},{"$f":"IF(AND(H24=\"\",I24=\"\",J24=\"\"),\"\",Meldeliste!#REF!)","v":{"$error":"#REF!"}},{"$f":"IF(Meldeliste!#REF!=\"\",\"\",Meldeliste!#REF!)","v":{"$error":"#REF!"}},{"$f":"IF(Meldeliste!#REF!=\"\",\"\",Meldeliste!#REF!)","v":{"$error":"#REF!"}},{"$f":"IF(Meldeliste!#REF!=\"\",\"\",Meldeliste!#REF!)","v":{"$error":"#REF!"}}]
[{"$f":"IF(Meldeliste!E$10=\"\",\"\",Meldeliste!E$10)","v":""},{"$f":"IF(AND(H25=\"\",I25=\"\",J25=\"\"),\"\",Meldeliste!B71)","v":{"$error":"#REF!"}},{"$f":"IF(AND(H25=\"\",I25=\"\",J25=\"\"),\"\",Meldeliste!C71)","v":{"$error":"#REF!"}},{"$f":"IF(AND(H25=\"\",I25=\"\",J25=\"\"),\"\",Meldeliste!D71)","v":{"$error":"#REF!"}},{"$f":"IF(AND(H25=\"\",I25=\"\",J25=\"\"),\"\",Meldeliste!F71)","v":{"$error":"#REF!"}},{"$f":"IF(AND(H25=\"\",I25=\"\",J25=\"\"),\"\",Meldeliste!G71)","v":{"$error":"#REF!"}},{"$f":"IF(AND(H25=\"\",I25=\"\",J25=\"\"),\"\",Meldeliste!#REF!)","v":{"$error":"#REF!"}},{"$f":"IF(Meldeliste!#REF!=\"\",\"\",Meldeliste!#REF!)","v":{"$error":"#REF!"}},{"$f":"IF(Meldeliste!#REF!=\"\",\"\",Meldeliste!#REF!)","v":{"$error":"#REF!"}},{"$f":"IF(Meldeliste!#REF!=\"\",\"\",Meldeliste!#REF!)","v":{"$error":"#REF!"}}]
[{"$f":"IF(Meldeliste!E$10=\"\",\"\",Meldeliste!E$10)","v":""},{"$f":"IF(AND(H26=\"\",I26=\"\",J26=\"\"),\"\",Meldeliste!B72)","v":{"$error":"#REF!"}},{"$f":"IF(AND(H26=\"\",I26=\"\",J26=\"\"),\"\",Meldeliste!C72)","v":{"$error":"#REF!"}},{"$f":"IF(AND(H26=\"\",I26=\"\",J26=\"\"),\"\",Meldeliste!D72)","v":{"$error":"#REF!"}},{"$f":"IF(AND(H26=\"\",I26=\"\",J26=\"\"),\"\",Meldeliste!F72)","v":{"$error":"#REF!"}},{"$f":"IF(AND(H26=\"\",I26=\"\",J26=\"\"),\"\",Meldeliste!G72)","v":{"$error":"#REF!"}},{"$f":"IF(AND(H26=\"\",I26=\"\",J26=\"\"),\"\",Meldeliste!#REF!)","v":{"$error":"#REF!"}},{"$f":"IF(Meldeliste!#REF!=\"\",\"\",Meldeliste!#REF!)","v":{"$error":"#REF!"}},{"$f":"IF(Meldeliste!#REF!=\"\",\"\",Meldeliste!#REF!)","v":{"$error":"#REF!"}},{"$f":"IF(Meldeliste!#REF!=\"\",\"\",Meldeliste!#REF!)","v":{"$error":"#REF!"}}]
[{"$f":"IF(Meldeliste!E$10=\"\",\"\",Meldeliste!E$10)","v":""},{"$f":"IF(AND(H27=\"\",I27=\"\",J27=\"\"),\"\",Meldeliste!#REF!)","v":{"$error":"#REF!"}},{"$f":"IF(AND(H27=\"\",I27=\"\",J27=\"\"),\"\",Meldeliste!#REF!)","v":{"$error":"#REF!"}},{"$f":"IF(AND(H27=\"\",I27=\"\",J27=\"\"),\"\",Meldeliste!#REF!)","v":{"$error":"#REF!"}},{"$f":"IF(AND(H27=\"\",I27=\"\",J27=\"\"),\"\",Meldeliste!#REF!)","v":{"$error":"#REF!"}},{"$f":"IF(AND(H27=\"\",I27=\"\",J27=\"\"),\"\",Meldeliste!#REF!)","v":{"$error":"#REF!"}},{"$f":"IF(AND(H27=\"\",I27=\"\",J27=\"\"),\"\",Meldeliste!#REF!)","v":{"$error":"#REF!"}},{"$f":"IF(Meldeliste!#REF!=\"\",\"\",Meldeliste!#REF!)","v":{"$error":"#REF!"}},{"$f":"IF(Meldeliste!#REF!=\"\",\"\",Meldeliste!#REF!)","v":{"$error":"#REF!"}},{"$f":"IF(Meldeliste!#REF!=\"\",\"\",Meldeliste!#REF!)","v":{"$error":"#REF!"}}]

{"sheet":"KR Übernahme","index":3,"n_rows":7,"n_cols":6,"rows_kept":7,"cut":false,"hidden":false,"merged":[]}
["Name",null,"Schule/Verein","Alter","Grad.","A/B"]
[{"$f":"IF(Meldeliste!E26=\"\",\"\",Meldeliste!E26)","v":""},null,{"$f":"IF(Meldeliste!$E$6=\"\",\"\",Meldeliste!$E$6)","v":""},null,{"$f":"IF(Meldeliste!L26=\"\",\"\",Meldeliste!L26)","v":""},{"$f":"IF(Meldeliste!K26=\"\",\"\",Meldeliste!K26)","v":""}]
[{"$f":"IF(Meldeliste!E27=\"\",\"\",Meldeliste!E27)","v":""},null,{"$f":"IF(Meldeliste!$E$6=\"\",\"\",Meldeliste!$E$6)","v":""},null,{"$f":"IF(Meldeliste!L27=\"\",\"\",Meldeliste!L27)","v":""},{"$f":"IF(Meldeliste!K27=\"\",\"\",Meldeliste!K27)","v":""}]
[{"$f":"IF(Meldeliste!E28=\"\",\"\",Meldeliste!E28)","v":""},null,{"$f":"IF(Meldeliste!$E$6=\"\",\"\",Meldeliste!$E$6)","v":""},null,{"$f":"IF(Meldeliste!L28=\"\",\"\",Meldeliste!L28)","v":""},{"$f":"IF(Meldeliste!K28=\"\",\"\",Meldeliste!K28)","v":""}]
[{"$f":"IF(Meldeliste!E29=\"\",\"\",Meldeliste!E29)","v":""},null,{"$f":"IF(Meldeliste!$E$6=\"\",\"\",Meldeliste!$E$6)","v":""},null,{"$f":"IF(Meldeliste!L29=\"\",\"\",Meldeliste!L29)","v":""},{"$f":"IF(Meldeliste!K29=\"\",\"\",Meldeliste!K29)","v":""}]
[{"$f":"IF(Meldeliste!E30=\"\",\"\",Meldeliste!E30)","v":""},null,{"$f":"IF(Meldeliste!$E$6=\"\",\"\",Meldeliste!$E$6)","v":""},null,{"$f":"IF(Meldeliste!L30=\"\",\"\",Meldeliste!L30)","v":""},{"$f":"IF(Meldeliste!K30=\"\",\"\",Meldeliste!K30)","v":""}]
[{"$f":"IF(Meldeliste!E31=\"\",\"\",Meldeliste!E31)","v":""},null,{"$f":"IF(Meldeliste!$E$6=\"\",\"\",Meldeliste!$E$6)","v":""},null,{"$f":"IF(Meldeliste!L31=\"\",\"\",Meldeliste!L31)","v":""},{"$f":"IF(Meldeliste!K31=\"\",\"\",Meldeliste!K31)","v":""}]

{"sheet":"Btr. Übernahme","index":4,"n_rows":7,"n_cols":3,"rows_kept":7,"cut":false,"hidden":false,"merged":[[0,4,0,5]]}
["Name",null,"Schule/Verein"]
[{"$f":"IF(Meldeliste!B26=\"\",\"\",Meldeliste!B26)","v":""},null,{"$f":"IF(Meldeliste!$E$6=\"\",\"\",Meldeliste!$E$6)","v":""}]
[{"$f":"IF(Meldeliste!B27=\"\",\"\",Meldeliste!B27)","v":""},null,{"$f":"IF(Meldeliste!$E$6=\"\",\"\",Meldeliste!$E$6)","v":""}]
[{"$f":"IF(Meldeliste!B28=\"\",\"\",Meldeliste!B28)","v":""},null,{"$f":"IF(Meldeliste!$E$6=\"\",\"\",Meldeliste!$E$6)","v":""}]
[{"$f":"IF(Meldeliste!B29=\"\",\"\",Meldeliste!B29)","v":""},null,{"$f":"IF(Meldeliste!$E$6=\"\",\"\",Meldeliste!$E$6)","v":""}]
[{"$f":"IF(Meldeliste!B30=\"\",\"\",Meldeliste!B30)","v":""},null,{"$f":"IF(Meldeliste!$E$6=\"\",\"\",Meldeliste!$E$6)","v":""}]
[{"$f":"IF(Meldeliste!B31=\"\",\"\",Meldeliste!B31)","v":""},null,{"$f":"IF(Meldeliste!$E$6=\"\",\"\",Meldeliste!$E$6)","v":""}]